BEGIN:VCALENDAR
VERSION:2.0
PRODID:-//Geheimnisakademie - ECPv6.15.13.1//NONSGML v1.0//EN
CALSCALE:GREGORIAN
METHOD:PUBLISH
X-ORIGINAL-URL:https://www.geheimnisakademie.de
X-WR-CALDESC:Veranstaltungen für Geheimnisakademie
REFRESH-INTERVAL;VALUE=DURATION:PT1H
X-Robots-Tag:noindex
X-PUBLISHED-TTL:PT1H
BEGIN:VTIMEZONE
TZID:Europe/Berlin
BEGIN:DAYLIGHT
TZOFFSETFROM:+0100
TZOFFSETTO:+0200
TZNAME:CEST
DTSTART:20230326T010000
END:DAYLIGHT
BEGIN:STANDARD
TZOFFSETFROM:+0200
TZOFFSETTO:+0100
TZNAME:CET
DTSTART:20231029T010000
END:STANDARD
BEGIN:DAYLIGHT
TZOFFSETFROM:+0100
TZOFFSETTO:+0200
TZNAME:CEST
DTSTART:20240331T010000
END:DAYLIGHT
BEGIN:STANDARD
TZOFFSETFROM:+0200
TZOFFSETTO:+0100
TZNAME:CET
DTSTART:20241027T010000
END:STANDARD
BEGIN:DAYLIGHT
TZOFFSETFROM:+0100
TZOFFSETTO:+0200
TZNAME:CEST
DTSTART:20250330T010000
END:DAYLIGHT
BEGIN:STANDARD
TZOFFSETFROM:+0200
TZOFFSETTO:+0100
TZNAME:CET
DTSTART:20251026T010000
END:STANDARD
END:VTIMEZONE
BEGIN:VEVENT
DTSTART;TZID=Europe/Berlin:20240729T063000
DTEND;TZID=Europe/Berlin:20240729T065500
DTSTAMP:20260421T200132
CREATED:20240725T062629Z
LAST-MODIFIED:20240725T062629Z
UID:10001335-1722234600-1722236100@www.geheimnisakademie.de
SUMMARY:DEIN MANTISCHER MORGEN
DESCRIPTION:DEIN MANTISCHER MORGEN *** \nJeden Morgen beginnst du deinen Tag zauberhaft!\n *** (A) Tagesgeheimnis mit Runen – was die Runen raunen (Christopher) \nhttps://www.youtube.com/@Geheimnisakademie\nUm 6:30 Uhr lässt Christopher wie gewohnt die Runen raunen. Die Tagesrune aus der Runenwoche wird besprochen und ihre Facetten vertieft. Sie zeigt die Grundenergie des Tages aus Sicht der Runen des Älteren Futhark\, spannt den energetischen Rahmen. Die drei zusätzlich gezogenen Runen mögen dich inspirieren\, das Beste aus dem Tag zu machen und sprechen Empfehlungen aus\, was jetzt gut für dich wäre auf den Ebenen von LIEBE\, ORDNUNG und ERKENNTNIS. Wie immer lässt sich Christopher ganz spontan auf die Runen ein und lässt es sich nicht nehmen\, von Thema zu Thema zu mäandern\, um in Worte zu fassen\, was gerade in der Luft liegt. \n *** (B) Tagesgeheimnis mit Astrologie – Was die Sterne verraten (Kirsten)\nhttps://www.youtube.com/@Geheimnisakademie-Astrologie\nGleich im Anschluss übernimmt Kirsten das Steuer und führt dich auf unserem Astro-Kanal sachkundig durch die Konstellationen des Tages. Mit einem besonderen Blick auf die Mondphasen und durch die Analyse wichtiger Tagesaspekte bekommst du einen Einblick\, worauf du laut den Planeten an diesem Tag besonders achten solltest. Zum Abschluss des astrologischen Segments erhältst du ein Symbol-Orakel aus der Grad-Astrologie\, das dir als tägliches Mantra dienen kann. \n *** (C) Tagesgeheimnis mit Tarot – Was die Karten empfehlen (Kirsten)\nhttps://www.youtube.com/@GeheimnisakademieTarot\nDein magischer Morgen wird durch einen Impuls aus der Welt des Karten abgerundet. Kirsten berechnet auf unserem Orakelkanal den „Spirit Guide“ und bietet dir zusätzliche Denkanstöße für deinen Tag. Jeden Morgen lässt sie sich aufs Neue von ihrem umfangreichen Arsenal an Tarotdecks inspirieren und präsentiert immer wieder faszinierende neue Bilder. Zudem führt Kirsten gelegentlich ein Tagesorakel durch.So wird dein Tag magisch! \nHerzlichst\, Kirsten & Christopher \nGeheimnisakademie
URL:https://www.geheimnisakademie.de/veranstaltung/dein-mantischer-morgen-4/
CATEGORIES:Live Online-Event
END:VEVENT
END:VCALENDAR