BEGIN:VCALENDAR
VERSION:2.0
PRODID:-//Geheimnisakademie - ECPv6.15.13.1//NONSGML v1.0//EN
CALSCALE:GREGORIAN
METHOD:PUBLISH
X-ORIGINAL-URL:https://www.geheimnisakademie.de
X-WR-CALDESC:Veranstaltungen für Geheimnisakademie
REFRESH-INTERVAL;VALUE=DURATION:PT1H
X-Robots-Tag:noindex
X-PUBLISHED-TTL:PT1H
BEGIN:VTIMEZONE
TZID:Europe/Berlin
BEGIN:DAYLIGHT
TZOFFSETFROM:+0100
TZOFFSETTO:+0200
TZNAME:CEST
DTSTART:20230326T010000
END:DAYLIGHT
BEGIN:STANDARD
TZOFFSETFROM:+0200
TZOFFSETTO:+0100
TZNAME:CET
DTSTART:20231029T010000
END:STANDARD
BEGIN:DAYLIGHT
TZOFFSETFROM:+0100
TZOFFSETTO:+0200
TZNAME:CEST
DTSTART:20240331T010000
END:DAYLIGHT
BEGIN:STANDARD
TZOFFSETFROM:+0200
TZOFFSETTO:+0100
TZNAME:CET
DTSTART:20241027T010000
END:STANDARD
BEGIN:DAYLIGHT
TZOFFSETFROM:+0100
TZOFFSETTO:+0200
TZNAME:CEST
DTSTART:20250330T010000
END:DAYLIGHT
BEGIN:STANDARD
TZOFFSETFROM:+0200
TZOFFSETTO:+0100
TZNAME:CET
DTSTART:20251026T010000
END:STANDARD
END:VTIMEZONE
BEGIN:VEVENT
DTSTART;TZID=Europe/Berlin:20240901T100000
DTEND;TZID=Europe/Berlin:20240901T180000
DTSTAMP:20260421T200214
CREATED:20240706T112045Z
LAST-MODIFIED:20240706T141849Z
UID:10001315-1725184800-1725213600@www.geheimnisakademie.de
SUMMARY:Transpersonale Astrologie (2): Merkur und Sonne
DESCRIPTION:Transpersonale Astrologie (TPA) – Teil 2: Merkur und Sonne\nDas geniale Deutungssystem des Michael Roscher\, vorgestellt von Christopher Weidner \nMichael Roscher (1960 – 2005) begründete in den 80er Jahren die Schule für Transpersonale Astrologie\, kurz: TPA. Er vereinte in dieser Schule weitreichende Erfahrungen aus seiner unermüdlichen Beratungspraxis mit modernen Vorstellungen über die Wechselwirkung zwischen dem Individuum und der Welt\, ohne dabei die Wurzeln der Astrologie zu vergessen. Ihm war wichtig\, Astrologie vor dem Hintergrund einer Logik zu betreiben\, die es dem Menschen erlaubt\, das Wesentliche im Horoskop zu erkennen. Es entstanden Deutungsweisen\, die einen systematischen Zugang zum Horoskop erlauben und zugleich einer Deutungstiefe erreichen können\, die man in der herkömmlichen Astrologie vergebens sucht. Das Vermächtnis von Michael Roscher besteht in astrologischen Methoden wie dem Kybernetischen Modell und den Kritischen Graden. Auch heute nur noch wenige AstrologInnen konsequent nach der TPA deuten\, gehören viele seiner Bücher zu den Standardwerken der deutschsprachigen Astrologie. \nLange Zeit bin ich Schüler der Transpersonalen Astrologie gewesen und habe dort meine astrologischen Weihen empfangen. Viele Jahre habe ich an der Seite von Michael Roscher und Brigitte Hamann Transpersonale Astrologie unterrichtet. Nun möchte ich meine Wertschätzung für dieses astrologische System an alle Interessierten weitergeben\, die sich einen tieferen Blick in das Horoskop wünschen. In meinen Augen gibt es keine astrologische Methode\, die schlüssiger und zielsicherer die Persönlichkeit eines Menschen beschreiben kann\, als die TPA. Ein Schlüssel ist dabei die Reduktion auf das Wesentliche – der Grund\, warum wir in der TPA bereits unter der Berücksichtigung nur weniger Faktoren im Horoskop zum Wesen eines Menschen vordringen können. \nMit diesem zweiten Online-Workshop von insgesamt fünf möchte ich dich in die Praxis der Transpersonalen Astrologie einführen. Du lernst: \n\nDie besondere Bedeutung von Merkur in der TPA: Warum wir nach dem Mond\, aber noch  noch vor der Sonne die Bedeutung von Merkur im Horoskop verstanden haben müssen und welche philosophischen\, spirituellen und astrologischen Hintergründe zu dieser Einsicht führen.\nDie besondere Bedeutung der Sonne in der TPA: Warum die Sonne im ersten Regelkreis des von Michael Roscher entworfenen Kybernetischen Modells das Schlusslicht bildet und welche philosophischen\, spirituellen und astrologischen Hintergründe diese Idee nähren.\nDer erste Regelkreis als Ganzes: Der erste Regelkreis aus Mond\, Merkur und Sonne ist der Wesenskern der Persönlichkeit. In diesem Workshop betrachten wir die Dynamik zwischen diesen drei Horoskopfaktoren als Ganzes.\n\n  \nDieser Workshop ist auch eine Einladung zur aktiven Teilnahme. Du wirst an deinem eigenen Horoskop arbeiten können. Du kannst auch dein Horoskop zur Verfügung stellen\, damit wir gemeinsam daran üben können. Bitte gib dann deine Geburtsdaten bei der Anmeldung mit an! \nTheorie und Praxis der Transpersonalen Astrologie (TPA) nach Michael Roscher\nDieser Workshop ist Teil einer fünfteiligen Serie\, in der ich in die Praxis der Horoskopdeutung nach Michael Roscher einführe. Du lernst mit Hilfe des sogenannten Kybernetischen Modells den Wesenskern einer Persönlichkeit aus dem Horoskop zu lesen. Zugleich bilden diese Workshops das Fundament für weitere spannende Workshops\, ion den du noch tiefer in die besonderen Techniken und Methoden der Transpersonalen Astrologie (TPA) eingeführt wirst (ab 2025). \n			\n                                    04.\n                                    August\n                                    2024\n                                    \nTranspersonale Astrologie (1): Der Mond\n90.00€Mehr Informationen und Buchung\n                                    01.\n                                    September\n                                    2024\n                                    \nTranspersonale Astrologie (2): Merkur und Sonne\n90.00€Mehr Informationen und Buchung\n                                    06.\n                                    Oktober\n                                    2024\n                                    \nTranspersonale Astrologie (3): Das Kybernetische Modell\n90.00€Mehr Informationen und Buchung\n                                    03.\n                                    November\n                                    2024\n                                    \nTranspersonale Astrologie (4): Praxis A\n90.00€Mehr Informationen und Buchung\n                                    01.\n                                    Dezember\n                                    2024\n                                    \nTranspersonale Astrologie (5): Praxis B\n90.00€Mehr Informationen und Buchung		 \nDie Ideen der TPA\nHier kannst du dich auf dem Astrokanal der Geheimnisakademie über die Grundlagen und das Astrologieverständnis der TPA informieren. Bitte sieh dir diese Videos an\, damit du eine Vorstellung vom Selbstverständnis der Transpersonalen Astrologie bekommst. \nPlaylist\n															3 Videos\n																									 \n\n											Transpersonale Astrologie: Eine Einführung (Teil 1)\n										\n																					1:39:46\n																									 \n\n											Transpersonale Astrologie: Eine Einführung (Teil 2)\n										\n																					1:22:18\n																									 \n\n											Transpersonale Astrologie: Eine Einführung (Teil 3)\n										\n																					1:30:53
URL:https://www.geheimnisakademie.de/veranstaltung/einfuehrung-in-die-transpersonale-astrologie-2-010924/
CATEGORIES:Online-Workshop
ATTACH;FMTTYPE=image/jpeg:https://www.geheimnisakademie.de/wp-content/uploads/2024/07/ga_workshop_tpa_2_me-so.jpg
LOCATION:https://www.geheimnisakademie.de/veranstaltung/einfuehrung-in-die-transpersonale-astrologie-2-010924/
END:VEVENT
END:VCALENDAR