BEGIN:VCALENDAR
VERSION:2.0
PRODID:-//Geheimnisakademie - ECPv6.15.13.1//NONSGML v1.0//EN
CALSCALE:GREGORIAN
METHOD:PUBLISH
X-ORIGINAL-URL:https://www.geheimnisakademie.de
X-WR-CALDESC:Veranstaltungen für Geheimnisakademie
REFRESH-INTERVAL;VALUE=DURATION:PT1H
X-Robots-Tag:noindex
X-PUBLISHED-TTL:PT1H
BEGIN:VTIMEZONE
TZID:Europe/Berlin
BEGIN:DAYLIGHT
TZOFFSETFROM:+0100
TZOFFSETTO:+0200
TZNAME:CEST
DTSTART:20230326T010000
END:DAYLIGHT
BEGIN:STANDARD
TZOFFSETFROM:+0200
TZOFFSETTO:+0100
TZNAME:CET
DTSTART:20231029T010000
END:STANDARD
BEGIN:DAYLIGHT
TZOFFSETFROM:+0100
TZOFFSETTO:+0200
TZNAME:CEST
DTSTART:20240331T010000
END:DAYLIGHT
BEGIN:STANDARD
TZOFFSETFROM:+0200
TZOFFSETTO:+0100
TZNAME:CET
DTSTART:20241027T010000
END:STANDARD
BEGIN:DAYLIGHT
TZOFFSETFROM:+0100
TZOFFSETTO:+0200
TZNAME:CEST
DTSTART:20250330T010000
END:DAYLIGHT
BEGIN:STANDARD
TZOFFSETFROM:+0200
TZOFFSETTO:+0100
TZNAME:CET
DTSTART:20251026T010000
END:STANDARD
END:VTIMEZONE
BEGIN:VEVENT
DTSTART;TZID=Europe/Berlin:20240908T110000
DTEND;TZID=Europe/Berlin:20240908T180000
DTSTAMP:20260421T182602
CREATED:20240706T171746Z
LAST-MODIFIED:20240706T180135Z
UID:10001319-1725793200-1725818400@www.geheimnisakademie.de
SUMMARY:Vertiefe dein Tarotwissen 1: Das Geheimnis der Zahlen
DESCRIPTION:Vertiefe dein Tarotwissen 1: Die geheimnisvolle Zahlenmystik des Tarot\nDie Welt der Zahlenmystik ist faszinierend und geheimnisvoll. In den wichtigsten Einweihungssystemen werden Zahlen als Symbole kosmischer und göttlicher Schicksalsfügungen betrachtet. Aber sie sind mehr als nur abstrakte Zeichen – sie besitzen eine lebendige Bedeutung und symbolisieren Energie und Charakter. Hinter jeder Zahl verbirgt sich ein einzigartiges Potenzial\, das dein Schicksal beeinflussen kann. \nEine spannende Verbindung besteht zwischen der Numerologie und den Tarotkarten. Da auf den Tarotkarten ebenfalls Zahlen abgebildet sind\, bietet die Numerologie eine faszinierende Möglichkeit\, die Karteninterpretation zu vertiefen und neue Einsichten zu gewinnen. Es ist erstaunlich\, wie dir die Zahlen tiefere Einblicke in die Botschaften der Tarotkarten offenbaren können. \nIn Kirstens Online-Workshop lernst du die Energie der Zahlen 1 bis 10 kennen. Der Fokus liegt auf der praktischen Anwendung dieser Zahlen bei deinen Tarotdeutungen. Am Ende des Tages bist du mit den grundlegenden Eigenschaften und Symboliken der Zahlen 1 bis 10 vertraut und verstehst\, wie jede Zahl in ihrer einzigartigen Schwingung deine Interpretationen beeinflusst. \nDieser Workshop bietet dir eine besondere einzigartige Gelegenheit\, die Weisheit der Zahlen mit einer langjährig beratungserfahrenen Tarotexpertin zu erforschen. Auf dieser Playlist findest du einige Inspirationen zu diesen Themen:\nhttps://www.youtube.com/playlist?list=PL68TTmclNlEEzXNj6zcMMhice3rkskt66 \nDu musst keine Tarot-Meisterin sein\, um an diesem Workshop teilzunehmen\, aber es ist eine wunderbare Ergänzung zu deinem bestehenden Wissen. In unserer Deutungspraxis kannst du dein bisheriges Wissen vertiefen. Weitere Informationen findest du hier: https://www.geheimnisakademie.de/uebungsabende/ \nVertiefe dein Tarotwissen – mit Kirsten Buchholzer\n<!=========Events grid Template 2.4.2=========>\n08.\nSeptember\n2024\n \nVertiefe dein Tarotwissen 1: Das Geheimnis der Zahlen\n90.00€Mehr Informationen und Buchung
URL:https://www.geheimnisakademie.de/veranstaltung/vertiefe-dein-tarotwissen-1-das-geheimnis-der-zahlen/
LOCATION:Zoom
CATEGORIES:Online-Workshop
ATTACH;FMTTYPE=image/jpeg:https://www.geheimnisakademie.de/wp-content/uploads/2024/07/ga_tarotwissen_1_zahlenmystik.jpg
END:VEVENT
END:VCALENDAR