BEGIN:VCALENDAR
VERSION:2.0
PRODID:-//Geheimnisakademie - ECPv6.15.13.1//NONSGML v1.0//EN
CALSCALE:GREGORIAN
METHOD:PUBLISH
X-WR-CALNAME:Geheimnisakademie
X-ORIGINAL-URL:https://www.geheimnisakademie.de
X-WR-CALDESC:Veranstaltungen für Geheimnisakademie
REFRESH-INTERVAL;VALUE=DURATION:PT1H
X-Robots-Tag:noindex
X-PUBLISHED-TTL:PT1H
BEGIN:VTIMEZONE
TZID:Europe/Berlin
BEGIN:DAYLIGHT
TZOFFSETFROM:+0100
TZOFFSETTO:+0200
TZNAME:CEST
DTSTART:20230326T010000
END:DAYLIGHT
BEGIN:STANDARD
TZOFFSETFROM:+0200
TZOFFSETTO:+0100
TZNAME:CET
DTSTART:20231029T010000
END:STANDARD
BEGIN:DAYLIGHT
TZOFFSETFROM:+0100
TZOFFSETTO:+0200
TZNAME:CEST
DTSTART:20240331T010000
END:DAYLIGHT
BEGIN:STANDARD
TZOFFSETFROM:+0200
TZOFFSETTO:+0100
TZNAME:CET
DTSTART:20241027T010000
END:STANDARD
BEGIN:DAYLIGHT
TZOFFSETFROM:+0100
TZOFFSETTO:+0200
TZNAME:CEST
DTSTART:20250330T010000
END:DAYLIGHT
BEGIN:STANDARD
TZOFFSETFROM:+0200
TZOFFSETTO:+0100
TZNAME:CET
DTSTART:20251026T010000
END:STANDARD
END:VTIMEZONE
BEGIN:VEVENT
DTSTART;TZID=Europe/Berlin:20241006T110000
DTEND;TZID=Europe/Berlin:20241006T180000
DTSTAMP:20260421T164743
CREATED:20240706T175709Z
LAST-MODIFIED:20240707T125548Z
UID:10001320-1728212400-1728237600@www.geheimnisakademie.de
SUMMARY:Vertiefe dein Tarotwissen 2: Das Geheimnis der Hofkarten
DESCRIPTION:Vertiefe dein Tarotwissen 2: Dein inneres Team – Die Hofkarten des Tarot\nIn unseren Tarotkursen stellen wir immer wieder fest\, dass der Umgang mit den Hofkarten eine der größten Herausforderungen beim Erlernen der Deutungskunst darstellt. Dabei sind sie eigentlich ganz einfach zu interpretieren\, wenn man den Trick heraus hat. Kirsten stellt dir in diesem Online-Workshop ihre Herangehensweise in Theorie und Praxis vor. \nNachdem sie dir den Unterschied der verschiedenen Hofkarten-Systeme nach Waite-Smith\, Crowley-Harris und Marseille nähergebracht hat\, geht es auch gleich ans Deuten mit praktischen Beispielen. Bald wirst du wissen\, wann eine Hofkarte eine andere Person repräsentiert und wann einen inneren Aspekt von dir. Außerdem lernst du deine ganz persönliche Tarot-Wesenskarte kennen. \nDieser Workshop bietet dir eine einzigartige Gelegenheit\, die Charaktere des Tarot-Hofstaates kennenzulernen und sie für deine Deutungsarbeit bestens zu nutzen. Auf dieser Playlist findest du einige Inspirationen zu diesen Themen: \nhttps://www.youtube.com/playlist?list=PL68TTmclNlEEKPqp5N8Iu1gzLyy3l3uRK \nDu musst keine Tarot-Meisterin sein\, um an diesem Workshop teilzunehmen\, aber es ist eine wunderbare Ergänzung zu deinem bestehenden Wissen. In unserer Deutungspraxis kannst du dein bisheriges Wissen vertiefen. Weitere Informationen findest du hier: https://www.geheimnisakademie.de/uebungsabende/ \n  \nVertiefe dein Tarotwissen – mit Kirsten Buchholzer\n			\n                                    08.\n                                    September\n                                    2024\n                                    \nVertiefe dein Tarotwissen 1: Das Geheimnis der Zahlen\n90.00€Mehr Informationen und Buchung\n                                    06.\n                                    Oktober\n                                    2024\n                                    \nVertiefe dein Tarotwissen 2: Das Geheimnis der Hofkarten\n90.00€Mehr Informationen und Buchung
URL:https://www.geheimnisakademie.de/veranstaltung/vertiefe-dein-tarotwissen-1-das-geheimnis-der-hofkarten/
LOCATION:Zoom
CATEGORIES:Online-Workshop
ATTACH;FMTTYPE=image/jpeg:https://www.geheimnisakademie.de/wp-content/uploads/2024/07/ga_tarotwissen_2_hofkarten.jpg
END:VEVENT
END:VCALENDAR