BEGIN:VCALENDAR
VERSION:2.0
PRODID:-//Geheimnisakademie - ECPv6.15.13.1//NONSGML v1.0//EN
CALSCALE:GREGORIAN
METHOD:PUBLISH
X-WR-CALNAME:Geheimnisakademie
X-ORIGINAL-URL:https://www.geheimnisakademie.de
X-WR-CALDESC:Veranstaltungen für Geheimnisakademie
REFRESH-INTERVAL;VALUE=DURATION:PT1H
X-Robots-Tag:noindex
X-PUBLISHED-TTL:PT1H
BEGIN:VTIMEZONE
TZID:Europe/Berlin
BEGIN:DAYLIGHT
TZOFFSETFROM:+0100
TZOFFSETTO:+0200
TZNAME:CEST
DTSTART:20240331T010000
END:DAYLIGHT
BEGIN:STANDARD
TZOFFSETFROM:+0200
TZOFFSETTO:+0100
TZNAME:CET
DTSTART:20241027T010000
END:STANDARD
BEGIN:DAYLIGHT
TZOFFSETFROM:+0100
TZOFFSETTO:+0200
TZNAME:CEST
DTSTART:20250330T010000
END:DAYLIGHT
BEGIN:STANDARD
TZOFFSETFROM:+0200
TZOFFSETTO:+0100
TZNAME:CET
DTSTART:20251026T010000
END:STANDARD
BEGIN:DAYLIGHT
TZOFFSETFROM:+0100
TZOFFSETTO:+0200
TZNAME:CEST
DTSTART:20260329T010000
END:DAYLIGHT
BEGIN:STANDARD
TZOFFSETFROM:+0200
TZOFFSETTO:+0100
TZNAME:CET
DTSTART:20261025T010000
END:STANDARD
END:VTIMEZONE
BEGIN:VEVENT
DTSTART;TZID=Europe/Berlin:20250309T110000
DTEND;TZID=Europe/Berlin:20250309T180000
DTSTAMP:20260422T141528
CREATED:20250222T122522Z
LAST-MODIFIED:20250222T122945Z
UID:10001373-1741518000-1741543200@www.geheimnisakademie.de
SUMMARY:Vertiefe dein Tarotwissen: Tarot à la Golden Dawn
DESCRIPTION:Das geheime Tarotwissen des Golden Dawn\nDer Hermetic Order of the Golden Dawn war einer der einflussreichsten okkulten Orden des 19. Jahrhunderts. Viele der heutigen Tarot-Methoden – insbesondere die des Crowley-Harris- und des Waite-Smith-Tarots – gehen direkt auf seine Lehren zurück.\nIn diesem Workshop lernst du:\n🔹 Wie der Golden Dawn das Tarot nutzte – und warum seine Methoden heute noch kraftvoll sind\n🔹 Die Verbindung zwischen Tarot\, Kabbala und Astrologie\n🔹 Spezielle Legeweisen und Deutungsansätze\, die du sofort anwenden kannst\nDieser Workshop dient auch als perfekte Vorbereitung auf den Tarot de Marseille-Kurs\, der wenige Wochen später startet: https://www.geheimnisakademie.de/tarot-de-marseille/\n💰 Kosten: 90 €\n🕚 Zeit: 11:00 – 18:00 Uhr (inkl. Pausen)\n📍 Ort: Online via Zoom\n📖 Extras: Handout\, Diskussionen & Skool-Community \n 
URL:https://www.geheimnisakademie.de/veranstaltung/vertiefe-dein-tarotwissen-tarot-a-la-golden-dawn/
LOCATION:Zoom
CATEGORIES:Online-Workshop
ATTACH;FMTTYPE=image/jpeg:https://www.geheimnisakademie.de/wp-content/uploads/2025/02/ga_online-workshop_golden-dawn.jpg
END:VEVENT
END:VCALENDAR