BEGIN:VCALENDAR
VERSION:2.0
PRODID:-//Geheimnisakademie - ECPv6.15.13.1//NONSGML v1.0//EN
CALSCALE:GREGORIAN
METHOD:PUBLISH
X-ORIGINAL-URL:https://www.geheimnisakademie.de
X-WR-CALDESC:Veranstaltungen für Geheimnisakademie
REFRESH-INTERVAL;VALUE=DURATION:PT1H
X-Robots-Tag:noindex
X-PUBLISHED-TTL:PT1H
BEGIN:VTIMEZONE
TZID:Europe/Berlin
BEGIN:DAYLIGHT
TZOFFSETFROM:+0100
TZOFFSETTO:+0200
TZNAME:CEST
DTSTART:20240331T010000
END:DAYLIGHT
BEGIN:STANDARD
TZOFFSETFROM:+0200
TZOFFSETTO:+0100
TZNAME:CET
DTSTART:20241027T010000
END:STANDARD
BEGIN:DAYLIGHT
TZOFFSETFROM:+0100
TZOFFSETTO:+0200
TZNAME:CEST
DTSTART:20250330T010000
END:DAYLIGHT
BEGIN:STANDARD
TZOFFSETFROM:+0200
TZOFFSETTO:+0100
TZNAME:CET
DTSTART:20251026T010000
END:STANDARD
BEGIN:DAYLIGHT
TZOFFSETFROM:+0100
TZOFFSETTO:+0200
TZNAME:CEST
DTSTART:20260329T010000
END:DAYLIGHT
BEGIN:STANDARD
TZOFFSETFROM:+0200
TZOFFSETTO:+0100
TZNAME:CET
DTSTART:20261025T010000
END:STANDARD
END:VTIMEZONE
BEGIN:VEVENT
DTSTART;TZID=Europe/Berlin:20250504T110000
DTEND;TZID=Europe/Berlin:20250504T180000
DTSTAMP:20260422T160507
CREATED:20250222T123808Z
LAST-MODIFIED:20250222T123808Z
UID:10001375-1746356400-1746381600@www.geheimnisakademie.de
SUMMARY:Vertiefe dein Tarotwissen: Tarot und Runen
DESCRIPTION:Bringe deine Lieblingstools zusammen\nSowohl Tarot als auch Runen sind kraftvolle Werkzeuge der Deutung. Doch was passiert\, wenn du sie gemeinsam nutzt? Christopher Weidner und Kirsten Buchholzer zeigen dir\, wie du diese beiden Systeme kombinierst\, um deine Beratungen und Analysen noch tiefgehender zu gestalten.\nErfahre in diesem Workshop:\n🔹 Wie sich Tarot und Runen ergänzen – und wo sie sich widersprechen\n🔹 Welche Runen perfekt zu bestimmten Tarotkarten passen\n🔹 Wie du neue Deutungsmethoden entwickelst\, die beide Systeme vereinen\n💰 Kosten: 90 €\n🕚 Zeit: 11:00 – 18:00 Uhr (inkl. Pausen)\n📍 Ort: Online via Zoom\n📖 Extras: Handout\, Diskussionen & Skool-Community \n 
URL:https://www.geheimnisakademie.de/veranstaltung/vertiefe-dein-tarotwissen-tarot-und-runen/
LOCATION:Zoom
CATEGORIES:Online-Workshop
ATTACH;FMTTYPE=image/jpeg:https://www.geheimnisakademie.de/wp-content/uploads/2025/02/ga_online-workshop_tarot-runen.jpg
END:VEVENT
END:VCALENDAR