BEGIN:VCALENDAR
VERSION:2.0
PRODID:-//Geheimnisakademie - ECPv6.15.13.1//NONSGML v1.0//EN
CALSCALE:GREGORIAN
METHOD:PUBLISH
X-ORIGINAL-URL:https://www.geheimnisakademie.de
X-WR-CALDESC:Veranstaltungen für Geheimnisakademie
REFRESH-INTERVAL;VALUE=DURATION:PT1H
X-Robots-Tag:noindex
X-PUBLISHED-TTL:PT1H
BEGIN:VTIMEZONE
TZID:Europe/Berlin
BEGIN:DAYLIGHT
TZOFFSETFROM:+0100
TZOFFSETTO:+0200
TZNAME:CEST
DTSTART:20240331T010000
END:DAYLIGHT
BEGIN:STANDARD
TZOFFSETFROM:+0200
TZOFFSETTO:+0100
TZNAME:CET
DTSTART:20241027T010000
END:STANDARD
BEGIN:DAYLIGHT
TZOFFSETFROM:+0100
TZOFFSETTO:+0200
TZNAME:CEST
DTSTART:20250330T010000
END:DAYLIGHT
BEGIN:STANDARD
TZOFFSETFROM:+0200
TZOFFSETTO:+0100
TZNAME:CET
DTSTART:20251026T010000
END:STANDARD
BEGIN:DAYLIGHT
TZOFFSETFROM:+0100
TZOFFSETTO:+0200
TZNAME:CEST
DTSTART:20260329T010000
END:DAYLIGHT
BEGIN:STANDARD
TZOFFSETFROM:+0200
TZOFFSETTO:+0100
TZNAME:CET
DTSTART:20261025T010000
END:STANDARD
END:VTIMEZONE
BEGIN:VEVENT
DTSTART;TZID=Europe/Berlin:20250529T140000
DTEND;TZID=Europe/Berlin:20250601T150000
DTSTAMP:20260421T193303
CREATED:20241212T161346Z
LAST-MODIFIED:20250206T153034Z
UID:10001351-1748527200-1748790000@www.geheimnisakademie.de
SUMMARY:Anderswelt-Retreat im Land der Kelten
DESCRIPTION:Anderswelt-Retreat: Im magischen Land der Kelten\nErlebe Natur – Entdecke keltische Mystik – Finde neue Kraft\nDatum: 29. Mai – 1. Juni 2025\nOrt: Kloster Heiligkreuztal\, Oberschwaben \nBegleite uns in die mystische Welt der Kelten! Inmitten der historischen Klosteranlage von Heiligkreuztal\, unweit der sagenumwobenen Keltenstadt „Pyrene“\, bieten wir Dir ein einzigartiges Retreat-Erlebnis. Gemeinsam erkunden wir die Kraft der Natur\, uralte Kultplätze und die Geheimnisse keltischer Weisheit. \nDeine Begleiter:\nBarbara Dürrwang. Barbara Dürrwang sieht die Natur nicht als bloße Ressource\, sondern als lebendigen Teil unseres Seins\, der Körper und Seele in Resonanz versetzt. Ihre intensive Beschäftigung mit Wildpflanzen hat sie auf den Weg zurück zur „wilden Natur“ geführt\, deren ungezähmte Kraft uns nachhaltig stärken kann. Mit der Gründung der Wildpflanzenbotschaft und der Ausbildung zum Wildpflanzenbotschafter möchte sie diese Erfahrung mit anderen teilen und ihnen die heilsame Verbindung zur Natur näherbringen. \nChristopher Weidner. Christopher Weidner ist Runenexperte und ein Kenner nordischer sowie keltischer Mythologie\, der die Geheimnisse alter Weisheiten und Mythen auf moderne Weise zugänglich macht. Als leidenschaftlicher Märchenkenner und Geschichtenerzähler verbindet er spirituelle Traditionen mit inspirierenden Erzählungen\, die Vergangenheit und Gegenwart verknüpfen. Mit seinen Seminaren\, Büchern und Vorträgen stärkt er die Verbindung zwischen uraltem Wissen und der heutigen Welt und ermutigt Menschen\, ihren eigenen Weg mit neuer Klarheit zu gehen. \nWas Dich erwartet:\n🌳 Naturerfahrung: Entdecke die Schönheit der Umgebung\, von geheimnisvollen Wäldern bis hin zu Pflanzen\, die schon die Kelten ob ihrer Heil- und Zauberkraft kannten und schätzten.\n🌙 Spirituelle Rituale: Mondrituale zum Neulich und kleine Meditationen begleiten Dich auf Deiner Reise in die geheimnisvolle Welt der Kelten und öffnen dir die Pforten in die Anderswelt.\n🌱 Pflanzenwissen: Lerne die heilenden Kräfte der Natur kennen – von Inhaltsstoffen und Anwendungen bis zu den Mythen\, die sich um sie ranken.\n🍎 Keltische Mystik: Erlebe die Weisheit der Kelten\, von Orakeln in der Natur mit Runen über die Weisheit der Bäume des Baumkalenders bis zu fantastischen Geschichten und Märchen des keltischen Sagenkreises. \nDein Programm in Kurzform:\n\n29.05.2025: Ankommen\, Kennenlernen und ein erstes Ritual zur Nachtruhe.\n30.05.2025: Aufstieg zu einem der größten keltischen Kultplätze und ein magisches Neulicht-Ritual am „Hohmichele“.\n31.05.2025: Labyrinth-Erkundung\, der keltische Baumkreis\, Orakeln mit Runen in der Natur und Abendritual.\n01.06.2025: Besuch der Heuneburg\, bekannt als „Pyrene“\, und Abschlussrunde.\n\nUnterkunft & Verpflegung:\nDu wohnst in der historischen Klosteranlage Heiligkreuztal\, die liebevoll restaurierte Klosterzellen sowie Komfortzimmer bietet. Der zauberhafte Park mit Klostergarten\, Wald und Teich lädt zur Entspannung ein. Eine köstliche Vollpension rundet das Erlebnis ab. \nDie Unterbringung erfolgt in restaurierten Klosterzellen\, die mit einem Waschbecken ausgestattet sind. Duschkabinen und WC sind in ausrechendem Maße in der Etage vorhanden. Einen Bademantel finden Sie in jedem Zimmer. \nKosten:\n\nSeminargebühren: 785 €\nInklusive Übernachtung\, Vollpension\, Transfers und Programm laut Ausschreibung.\nUpgrade auf Komfortzimmer gegen Aufpreis möglich.\n\nTeilnehmerzahl:\nMax. 12 Personen – für eine exklusive und persönliche Erfahrung. \nBuchung:\nDie Anmeldung erfolgt über unseren Partner: Kopp und Spangler \n→ www.kopp-spangler.de/extern/geheimnisakademie/retreat \nLink zur Vorfreude: www.kloster-heiligkreuztal.de \nKomm mit auf diese Reise zu Dir selbst und zu den geheimnisvollen Wurzeln der Kelten. Stärke Dich mit der Kraft der Natur\, erlebe Achtsamkeit und finde Inspiration für Deinen Alltag. Wir freuen uns auf Dich! 🌿 \nWichtig zu wissen\n\nDu besuchst die Veranstaltung auf eigene Verantwortung. Diese Veranstaltung ist keine Therapie und richtet sich an Menschen\, die sich in mental und psychisch stabiler Verfassung befinden. Bitte sprich uns an\, ob eine Teilnahme empfehlenswert ist\, wenn du dich gerade in psychologischer Behandlung befindest. Eine Teilnahme mit ernsthaften psychiatrischen Problemen ist ausgeschlossen.\nDie Teilnehmerzahl ist begrenzt. Eine Teilnahme ohne Übernachtung im Tagungshaus ist nicht möglich.\nDie Anreise organisiert jeder TeilnehmerIn in eigener Regie.\nVerantwortlich für die Seminarinhalte sind: Barbara Dürrwang und Christopher Weidner.\nReiseveranstalter im Sinne des Reiserechts sind die Expertinnen für Mystische Reisen Kopp & Spangler mit Sitz in Rottenburg.\nNähere Informationen rund um das Seminar erhältst du nach der Anmeldung.
URL:https://www.geheimnisakademie.de/veranstaltung/anderswelt-retreat-im-land-der-kelten/
LOCATION:Kloster Heiligkreuztal Oberschwaben\, Am Münster 7\, Altheim-Heiligkreuztal\, 88499\, Germany
CATEGORIES:Seminar
ATTACH;FMTTYPE=image/jpeg:https://www.geheimnisakademie.de/wp-content/uploads/2024/12/ga_seminar_anderswelt-pyrene.jpg
END:VEVENT
END:VCALENDAR