BEGIN:VCALENDAR
VERSION:2.0
PRODID:-//Geheimnisakademie - ECPv6.15.13.1//NONSGML v1.0//EN
CALSCALE:GREGORIAN
METHOD:PUBLISH
X-ORIGINAL-URL:https://www.geheimnisakademie.de
X-WR-CALDESC:Veranstaltungen für Geheimnisakademie
REFRESH-INTERVAL;VALUE=DURATION:PT1H
X-Robots-Tag:noindex
X-PUBLISHED-TTL:PT1H
BEGIN:VTIMEZONE
TZID:Europe/Berlin
BEGIN:DAYLIGHT
TZOFFSETFROM:+0100
TZOFFSETTO:+0200
TZNAME:CEST
DTSTART:20240331T010000
END:DAYLIGHT
BEGIN:STANDARD
TZOFFSETFROM:+0200
TZOFFSETTO:+0100
TZNAME:CET
DTSTART:20241027T010000
END:STANDARD
BEGIN:DAYLIGHT
TZOFFSETFROM:+0100
TZOFFSETTO:+0200
TZNAME:CEST
DTSTART:20250330T010000
END:DAYLIGHT
BEGIN:STANDARD
TZOFFSETFROM:+0200
TZOFFSETTO:+0100
TZNAME:CET
DTSTART:20251026T010000
END:STANDARD
BEGIN:DAYLIGHT
TZOFFSETFROM:+0100
TZOFFSETTO:+0200
TZNAME:CEST
DTSTART:20260329T010000
END:DAYLIGHT
BEGIN:STANDARD
TZOFFSETFROM:+0200
TZOFFSETTO:+0100
TZNAME:CET
DTSTART:20261025T010000
END:STANDARD
END:VTIMEZONE
BEGIN:VEVENT
DTSTART;TZID=Europe/Berlin:20250907T110000
DTEND;TZID=Europe/Berlin:20250907T180000
DTSTAMP:20260421T144244
CREATED:20250621T110527Z
LAST-MODIFIED:20250621T110754Z
UID:10001384-1757242800-1757268000@www.geheimnisakademie.de
SUMMARY:Vertiefe dein Tarotwissen: Tarot & I Ching
DESCRIPTION:Das westliche Tarot trifft auf das östliche Orakelbuch\nDas I Ging ist eines der ältesten Weisheits- und Orakelsysteme der Welt. Schon Aleister Crowley und viele andere haben erkannt\, dass sich Tarot und I Ching auf faszinierende Weise ergänzen.\nNach dem großen Erfolg des ersten WS in Frühjahr wiederholen wir den Workshop nicht vollständig\, sondern erweitern ihn. Somit ist er geeignet für alle Neugierigen\, Wiederholer oder Vertiefer. \nIn diesem Workshop erforschst du: \n🔹 Wie sich die Struktur des Yijing mit der Symbolik des Tarots verbindet\n🔹 Welche Parallelen es zwischen den Trigrammen und den großen Arkana gibt\n🔹 Wie du beide Systeme kombinierst\, um tiefere Einsichten in deine Deutungen zu gewinnen\n🔹 Wie du deine eigenen Legungen bilden kannst \n💰 Kosten: 90 €\n🕚 Zeit: 11:00 – 18:00 Uhr (inkl. Pausen)\n📍 Ort: Online via Zoom\n📖 Extras: Handout\, Diskussionen & Skool-Community \n 
URL:https://www.geheimnisakademie.de/veranstaltung/vertiefe-dein-tarotwissen-tarot-i-ching-2/
LOCATION:Zoom
CATEGORIES:Online-Workshop
ATTACH;FMTTYPE=image/jpeg:https://www.geheimnisakademie.de/wp-content/uploads/2025/02/ga_online-workshop_i-ching.jpg
END:VEVENT
END:VCALENDAR