BEGIN:VCALENDAR
VERSION:2.0
PRODID:-//Geheimnisakademie - ECPv6.15.13.1//NONSGML v1.0//EN
CALSCALE:GREGORIAN
METHOD:PUBLISH
X-ORIGINAL-URL:https://www.geheimnisakademie.de
X-WR-CALDESC:Veranstaltungen für Geheimnisakademie
REFRESH-INTERVAL;VALUE=DURATION:PT1H
X-Robots-Tag:noindex
X-PUBLISHED-TTL:PT1H
BEGIN:VTIMEZONE
TZID:Europe/Berlin
BEGIN:DAYLIGHT
TZOFFSETFROM:+0100
TZOFFSETTO:+0200
TZNAME:CEST
DTSTART:20240331T010000
END:DAYLIGHT
BEGIN:STANDARD
TZOFFSETFROM:+0200
TZOFFSETTO:+0100
TZNAME:CET
DTSTART:20241027T010000
END:STANDARD
BEGIN:DAYLIGHT
TZOFFSETFROM:+0100
TZOFFSETTO:+0200
TZNAME:CEST
DTSTART:20250330T010000
END:DAYLIGHT
BEGIN:STANDARD
TZOFFSETFROM:+0200
TZOFFSETTO:+0100
TZNAME:CET
DTSTART:20251026T010000
END:STANDARD
BEGIN:DAYLIGHT
TZOFFSETFROM:+0100
TZOFFSETTO:+0200
TZNAME:CEST
DTSTART:20260329T010000
END:DAYLIGHT
BEGIN:STANDARD
TZOFFSETFROM:+0200
TZOFFSETTO:+0100
TZNAME:CET
DTSTART:20261025T010000
END:STANDARD
END:VTIMEZONE
BEGIN:VEVENT
DTSTART;TZID=Europe/Berlin:20250923T193000
DTEND;TZID=Europe/Berlin:20250923T220000
DTSTAMP:20260421T144302
CREATED:20250826T143204Z
LAST-MODIFIED:20250923T083817Z
UID:10001390-1758655800-1758664800@www.geheimnisakademie.de
SUMMARY:Übungsabend - Astrologie: 23.9.2025 - mit Christopher
DESCRIPTION:Thema: Du bist alles\, was mir fehlt. Grundmuster der Partnerschaft im Horoskop.
URL:https://www.geheimnisakademie.de/veranstaltung/uebungsabend-astrologie-23-9-2025-mit-christopher/
CATEGORIES:Übungsabend
ATTACH;FMTTYPE=image/jpeg:https://www.geheimnisakademie.de/wp-content/uploads/2023/07/ga_titelbild_astro-uebungsabend.jpg
LOCATION:https://www.geheimnisakademie.de/veranstaltung/uebungsabend-astrologie-23-9-2025-mit-christopher/
END:VEVENT
END:VCALENDAR