BEGIN:VCALENDAR
VERSION:2.0
PRODID:-//Geheimnisakademie - ECPv6.15.13.1//NONSGML v1.0//EN
CALSCALE:GREGORIAN
METHOD:PUBLISH
X-WR-CALNAME:Geheimnisakademie
X-ORIGINAL-URL:https://www.geheimnisakademie.de
X-WR-CALDESC:Veranstaltungen für Geheimnisakademie
REFRESH-INTERVAL;VALUE=DURATION:PT1H
X-Robots-Tag:noindex
X-PUBLISHED-TTL:PT1H
BEGIN:VTIMEZONE
TZID:Europe/Berlin
BEGIN:DAYLIGHT
TZOFFSETFROM:+0100
TZOFFSETTO:+0200
TZNAME:CEST
DTSTART:20240331T010000
END:DAYLIGHT
BEGIN:STANDARD
TZOFFSETFROM:+0200
TZOFFSETTO:+0100
TZNAME:CET
DTSTART:20241027T010000
END:STANDARD
BEGIN:DAYLIGHT
TZOFFSETFROM:+0100
TZOFFSETTO:+0200
TZNAME:CEST
DTSTART:20250330T010000
END:DAYLIGHT
BEGIN:STANDARD
TZOFFSETFROM:+0200
TZOFFSETTO:+0100
TZNAME:CET
DTSTART:20251026T010000
END:STANDARD
BEGIN:DAYLIGHT
TZOFFSETFROM:+0100
TZOFFSETTO:+0200
TZNAME:CEST
DTSTART:20260329T010000
END:DAYLIGHT
BEGIN:STANDARD
TZOFFSETFROM:+0200
TZOFFSETTO:+0100
TZNAME:CET
DTSTART:20261025T010000
END:STANDARD
END:VTIMEZONE
BEGIN:VEVENT
DTSTART;TZID=Europe/Berlin:20251107T190000
DTEND;TZID=Europe/Berlin:20251109T140000
DTSTAMP:20260421T143900
CREATED:20250930T095246Z
LAST-MODIFIED:20250930T102519Z
UID:10001392-1762542000-1762696800@www.geheimnisakademie.de
SUMMARY:Nachtmeerfahrt der Seele: Samhain in der Geheimnisakademie
DESCRIPTION:Online-Wochenende zu Samhain\n7.–9. November 2025\nIn jener Schwelle zwischen den Zeiten\, wenn die Uhren langsamer schlagen und das Licht sich ins Unsichtbare zurückzieht\, ruft das Meer der Seele zur Fahrt.\nNicht über Wellen aus Wasser\, sondern durch Strömungen aus Erinnerung\, Traum und Tiefe. \nDie Nachtmeerfahrt ist ein uraltes Bild für Wandlung:\nEin Abstieg in die Unterwelt der Seele – dorthin\, wo wir unsere Schatten finden\, unsere Ahnen hören\, unsere Essenz berühren. \nZur Zeit von Samhain\, wenn die Schleier dünner sind und das Alte stirbt\, um dem Neuen Raum zu geben\, begeben wir uns gemeinsam auf diese innere Reise. \nEin Wochenende lang\, geführt von Symbolen\, Mythen und Mantik. \nMit Tarotkarten als Sternbildern.\nMit Runen als Ruder.\nMit alten Geschichten als Kompass. \nUnd mit dir – als Reisende oder Reisender durch deine eigene Tiefe. \nWillkommen an Bord der Nachtmeerfahrt der Seele.\nEin Wochenende der Einkehr\, der Transformation – und der leisen Heimkehr zu dir selbst. \nDeine Wegweiser durch das Dunkel\n🜂 ROE – Orakelkarten-Experte\, Autor und Vorsitzender des Tarot e. V.\n🜂 Kirsten Buchholzer – Tarotexpertin\, Astrologin und Autorin\n🜂 Christopher Weidner – Runenexperte\, Astrologe und Autor. \nGemeinsam sind sie Gastgeber dieses Wochenendes.\nAls „Die Mantiker“ aus Hamburg (ROE & Kirsten) und als Stimme des Südens (Christopher) begleiten sie dich durch diese Tage – mit Tiefe\, Wissen und Humor. \nDas Programm\n🜃 Freitag\, 7. November – Die Schwelle \n20 Uhr · Live auf YouTube\nEin magischer Auftakt zur Nachtmeerfahrt. ROE führt durch den Abend – mit ersten Impulsen zu Samhain\, einer musikalisch-symbolischen Einstimmung und einem Ausblick auf das Wochenende. \n🜄 Samstag\, 8. November – Die Fahrt \nGespräche in der SKOOL-Community \n→ Hier geht’s zur SKOOL-Community (Anmeldung kostenlos) \nKirsten und Christopher führen tiefgehende Gespräche mit fünf spannenden Gästen – über Ahnenpfade\, Archetypen der Dunkelheit\, Seelenmythen\, Tarot\, Astrologie und mehr.\nMit dabei: Freund*innen der Geheimnisakademie.\n(Die genaue Besetzung wird noch bekannt gegeben.) \n🜁 Sonntag\, 9. November – Die Rückkehr \n11–14 Uhr · Live-Workshop via Zoom (Link zur Anmeldung im Vorfeld über die SKOOL-Community)\nEin gemeinsamer Ritual- und Erkenntnisraum zum Mythos von Inannas Unterweltsfahrt.\nMit Reflexion\, Orakelarbeit\, Symboldeutung und Austausch – für deine eigene seelische Transformation. \nTeilnahme & Anmeldung\n🌑 Die Teilnahme ist kostenfrei – als Geschenk an unsere Community zum dritten Geburtstag der Geheimnisakademie.\n🌕 Wir freuen uns über freiwillige Spenden\, um diese Arbeit zu unterstützen. \nMehr Informationen in Kürze auf dieser Seite.
URL:https://www.geheimnisakademie.de/veranstaltung/nachtmeerfahrt-der-seele-samhain-in-der-geheimnisakademie/
CATEGORIES:Live Online-Event
ATTACH;FMTTYPE=image/jpeg:https://www.geheimnisakademie.de/wp-content/uploads/2025/09/ga_samhain-2025_nachtmeerfahrt.jpg
END:VEVENT
BEGIN:VEVENT
DTSTART;TZID=Europe/Berlin:20251107T190000
DTEND;TZID=Europe/Berlin:20251109T140000
DTSTAMP:20260421T143900
CREATED:20251003T112533Z
LAST-MODIFIED:20251003T151428Z
UID:10001393-1762542000-1762696800@www.geheimnisakademie.de
SUMMARY:„Nachtmeerfahrt“ - Samhain 2025 in der Geheimnisakademie
DESCRIPTION:Samhain 2025\nDieses Online-Wochenende ist unser Geschenk an euch. Wir feiern unseren dritten Geburtstag. \nVor drei Jahren haben sich Kirsten und ROE\, die Mantiker aus Hamburg\, und Christopher aus München zusammengetan\, um die Geheimnisakademie aufzubauen. Seitdem ist viel passiert und wir wollen dieses Wochenende nutzen\, um das letzte Jahr Revue passieren zu lassen\, aber auch einen Ausblick auf das kommende Jahr wagen. \nDoch nicht nur das. \nWie es sich für eine Geburtstagsfeier ziemt\, haben wir illustre Gäste eingeladen\, diesen besonderen Moment im Jahreskreis mit uns zu feiern. Freundinnen und Freunde der Geheimnisakademie machen uns die Aufwartung und gemeinsam gestalten wir ein Programm rund um das Thema „Die Nachtmeerfahrt der Seele“. \nUnd du bist herzlich eingeladen\, gemeinsam mit uns zu feiern. \nAuf YouTube\, in unserer lebendigen SKOOL-Community und auf Zoom haben wir einiges für dich vorbereitet. Denn du bist der Grund\, warum wir hier sind und warum wir unsere Motivation nie verlieren und uns die Ideen nie ausgehen. Darum fühlen wir uns sehr geehrt\, wenn du auf unserer Feier dabei bist! \nDie Nachtmeerfahrt der Seele\nIn jener Schwelle zwischen den Zeiten\, wenn die Uhren langsamer schlagen und das Licht sich ins Unsichtbare zurückzieht\, ruft das Meer der Seele zur Fahrt. Nicht über Wellen aus Wasser\, sondern durch Strömungen aus Erinnerung\, Traum und Tiefe. \nDie Nachtmeerfahrt ist ein uraltes Bild für Wandlung.\nEin Abstieg in die Unterwelt der Seele – dorthin\, wo wir unsere Schatten finden\, unsere Ahnen hören\, unsere Essenz berühren. \nZur Zeit von Samhain\, wenn die Schleier dünner sind und das Alte stirbt\, um dem Neuen Raum zu geben\, begeben wir uns gemeinsam auf diese innere Reise. \nEin Wochenende lang\, geführt von Symbolen\, Mythen und Mantik. \n\nMit Tarotkarten als Sternbildern.\nMit Runen als Ruder.\nMit alten Geschichten als Kompass.\n\nUnd mit dir – als Reisende oder Reisender durch deine eigene Tiefe. \nWillkommen an Bord der Nachtmeerfahrt der Seele.\nEin Wochenende der Einkehr\, der Transformation – und der leisen Heimkehr zu dir selbst.Kostenlos. \nDas erwartet dich an Bord\nFreitag\, 7.11.2025(offen für alle auf YouTube)\n\n19:00: Einlass\n19:30 bis 21:00 Uhr auf dem Tarotkanal: Einstimmung und Internationaler Gast\n\nSamstag\, 8.11.2025(offen für alle Mitglieder der Sternenlicht-Community)\n\n10 bis 13 Uhr auf SKOOL: zwei Gespräche mit Freundinnen der Geheimnisakademie\n15 bis 20 Uhr auf SKOOL: drei Gespräche mit Freundinnen der Geheimnisakademie\n\nDie ReferentInnen stehen bereits fest! Wir werden bald bekanntgeben\, wer dabei ist und welche Themen sie mitgebracht haben!In der SKOOL-Community gehörst du zu den Ersten\, die erfahren\, wer mit an Bord ist! \n→ www.skool.com/geheimnisakademie (der Zugang ist kostenlos!) \nSonntag\, 9.11.2025(offen für alle\, dann via Anmeldung auf Zoom)\n\n10 Uhr bis 11 Uhr auf dem Mythenkanal: Sondersendung zum Thema des Wochenendes\n11:30 bis 14:00 Uhr via Zoom (Anmeldung erforderlich): Großes Orakel\n\nWir aktualisieren die Informationen über unser Samhain-Event regelmäßig!
URL:https://www.geheimnisakademie.de/veranstaltung/nachtmeerfahrt-samhain-2025-in-der-geheimnisakademie/
CATEGORIES:Live Online-Event
END:VEVENT
END:VCALENDAR