BEGIN:VCALENDAR
VERSION:2.0
PRODID:-//Geheimnisakademie - ECPv6.15.13.1//NONSGML v1.0//EN
CALSCALE:GREGORIAN
METHOD:PUBLISH
X-ORIGINAL-URL:https://www.geheimnisakademie.de
X-WR-CALDESC:Veranstaltungen für Geheimnisakademie
REFRESH-INTERVAL;VALUE=DURATION:PT1H
X-Robots-Tag:noindex
X-PUBLISHED-TTL:PT1H
BEGIN:VTIMEZONE
TZID:Europe/Berlin
BEGIN:DAYLIGHT
TZOFFSETFROM:+0100
TZOFFSETTO:+0200
TZNAME:CEST
DTSTART:20230326T010000
END:DAYLIGHT
BEGIN:STANDARD
TZOFFSETFROM:+0200
TZOFFSETTO:+0100
TZNAME:CET
DTSTART:20231029T010000
END:STANDARD
BEGIN:DAYLIGHT
TZOFFSETFROM:+0100
TZOFFSETTO:+0200
TZNAME:CEST
DTSTART:20240331T010000
END:DAYLIGHT
BEGIN:STANDARD
TZOFFSETFROM:+0200
TZOFFSETTO:+0100
TZNAME:CET
DTSTART:20241027T010000
END:STANDARD
BEGIN:DAYLIGHT
TZOFFSETFROM:+0100
TZOFFSETTO:+0200
TZNAME:CEST
DTSTART:20250330T010000
END:DAYLIGHT
BEGIN:STANDARD
TZOFFSETFROM:+0200
TZOFFSETTO:+0100
TZNAME:CET
DTSTART:20251026T010000
END:STANDARD
END:VTIMEZONE
BEGIN:VEVENT
DTSTART;TZID=Europe/Berlin:20240801T063000
DTEND;TZID=Europe/Berlin:20240801T065500
DTSTAMP:20260421T182602
CREATED:20240725T062631Z
LAST-MODIFIED:20240725T062631Z
UID:10001338-1722493800-1722495300@www.geheimnisakademie.de
SUMMARY:DEIN MANTISCHER MORGEN
DESCRIPTION:DEIN MANTISCHER MORGEN *** \nJeden Morgen beginnst du deinen Tag zauberhaft!\n *** (A) Tagesgeheimnis mit Runen – was die Runen raunen (Christopher) \nhttps://www.youtube.com/@Geheimnisakademie\nUm 6:30 Uhr lässt Christopher wie gewohnt die Runen raunen. Die Tagesrune aus der Runenwoche wird besprochen und ihre Facetten vertieft. Sie zeigt die Grundenergie des Tages aus Sicht der Runen des Älteren Futhark\, spannt den energetischen Rahmen. Die drei zusätzlich gezogenen Runen mögen dich inspirieren\, das Beste aus dem Tag zu machen und sprechen Empfehlungen aus\, was jetzt gut für dich wäre auf den Ebenen von LIEBE\, ORDNUNG und ERKENNTNIS. Wie immer lässt sich Christopher ganz spontan auf die Runen ein und lässt es sich nicht nehmen\, von Thema zu Thema zu mäandern\, um in Worte zu fassen\, was gerade in der Luft liegt. \n *** (B) Tagesgeheimnis mit Astrologie – Was die Sterne verraten (Kirsten)\nhttps://www.youtube.com/@Geheimnisakademie-Astrologie\nGleich im Anschluss übernimmt Kirsten das Steuer und führt dich auf unserem Astro-Kanal sachkundig durch die Konstellationen des Tages. Mit einem besonderen Blick auf die Mondphasen und durch die Analyse wichtiger Tagesaspekte bekommst du einen Einblick\, worauf du laut den Planeten an diesem Tag besonders achten solltest. Zum Abschluss des astrologischen Segments erhältst du ein Symbol-Orakel aus der Grad-Astrologie\, das dir als tägliches Mantra dienen kann. \n *** (C) Tagesgeheimnis mit Tarot – Was die Karten empfehlen (Kirsten)\nhttps://www.youtube.com/@GeheimnisakademieTarot\nDein magischer Morgen wird durch einen Impuls aus der Welt des Karten abgerundet. Kirsten berechnet auf unserem Orakelkanal den „Spirit Guide“ und bietet dir zusätzliche Denkanstöße für deinen Tag. Jeden Morgen lässt sie sich aufs Neue von ihrem umfangreichen Arsenal an Tarotdecks inspirieren und präsentiert immer wieder faszinierende neue Bilder. Zudem führt Kirsten gelegentlich ein Tagesorakel durch.So wird dein Tag magisch! \nHerzlichst\, Kirsten & Christopher \nGeheimnisakademie
URL:https://www.geheimnisakademie.de/veranstaltung/dein-mantischer-morgen-7/
CATEGORIES:Live Online-Event
END:VEVENT
BEGIN:VEVENT
DTSTART;TZID=Europe/Berlin:20240802T063000
DTEND;TZID=Europe/Berlin:20240802T065500
DTSTAMP:20260421T182602
CREATED:20240725T062631Z
LAST-MODIFIED:20240725T062631Z
UID:10001339-1722580200-1722581700@www.geheimnisakademie.de
SUMMARY:DEIN MANTISCHER MORGEN
DESCRIPTION:DEIN MANTISCHER MORGEN *** \nJeden Morgen beginnst du deinen Tag zauberhaft!\n *** (A) Tagesgeheimnis mit Runen – was die Runen raunen (Christopher) \nhttps://www.youtube.com/@Geheimnisakademie\nUm 6:30 Uhr lässt Christopher wie gewohnt die Runen raunen. Die Tagesrune aus der Runenwoche wird besprochen und ihre Facetten vertieft. Sie zeigt die Grundenergie des Tages aus Sicht der Runen des Älteren Futhark\, spannt den energetischen Rahmen. Die drei zusätzlich gezogenen Runen mögen dich inspirieren\, das Beste aus dem Tag zu machen und sprechen Empfehlungen aus\, was jetzt gut für dich wäre auf den Ebenen von LIEBE\, ORDNUNG und ERKENNTNIS. Wie immer lässt sich Christopher ganz spontan auf die Runen ein und lässt es sich nicht nehmen\, von Thema zu Thema zu mäandern\, um in Worte zu fassen\, was gerade in der Luft liegt. \n *** (B) Tagesgeheimnis mit Astrologie – Was die Sterne verraten (Kirsten)\nhttps://www.youtube.com/@Geheimnisakademie-Astrologie\nGleich im Anschluss übernimmt Kirsten das Steuer und führt dich auf unserem Astro-Kanal sachkundig durch die Konstellationen des Tages. Mit einem besonderen Blick auf die Mondphasen und durch die Analyse wichtiger Tagesaspekte bekommst du einen Einblick\, worauf du laut den Planeten an diesem Tag besonders achten solltest. Zum Abschluss des astrologischen Segments erhältst du ein Symbol-Orakel aus der Grad-Astrologie\, das dir als tägliches Mantra dienen kann. \n *** (C) Tagesgeheimnis mit Tarot – Was die Karten empfehlen (Kirsten)\nhttps://www.youtube.com/@GeheimnisakademieTarot\nDein magischer Morgen wird durch einen Impuls aus der Welt des Karten abgerundet. Kirsten berechnet auf unserem Orakelkanal den „Spirit Guide“ und bietet dir zusätzliche Denkanstöße für deinen Tag. Jeden Morgen lässt sie sich aufs Neue von ihrem umfangreichen Arsenal an Tarotdecks inspirieren und präsentiert immer wieder faszinierende neue Bilder. Zudem führt Kirsten gelegentlich ein Tagesorakel durch.So wird dein Tag magisch! \nHerzlichst\, Kirsten & Christopher \nGeheimnisakademie
URL:https://www.geheimnisakademie.de/veranstaltung/dein-mantischer-morgen-8/
CATEGORIES:Live Online-Event
END:VEVENT
BEGIN:VEVENT
DTSTART;TZID=Europe/Berlin:20240803T063000
DTEND;TZID=Europe/Berlin:20240803T065500
DTSTAMP:20260421T182602
CREATED:20240725T062632Z
LAST-MODIFIED:20240725T062632Z
UID:10001340-1722666600-1722668100@www.geheimnisakademie.de
SUMMARY:DEIN MANTISCHER MORGEN
DESCRIPTION:DEIN MANTISCHER MORGEN *** \nJeden Morgen beginnst du deinen Tag zauberhaft!\n *** (A) Tagesgeheimnis mit Runen – was die Runen raunen (Christopher) \nhttps://www.youtube.com/@Geheimnisakademie\nUm 6:30 Uhr lässt Christopher wie gewohnt die Runen raunen. Die Tagesrune aus der Runenwoche wird besprochen und ihre Facetten vertieft. Sie zeigt die Grundenergie des Tages aus Sicht der Runen des Älteren Futhark\, spannt den energetischen Rahmen. Die drei zusätzlich gezogenen Runen mögen dich inspirieren\, das Beste aus dem Tag zu machen und sprechen Empfehlungen aus\, was jetzt gut für dich wäre auf den Ebenen von LIEBE\, ORDNUNG und ERKENNTNIS. Wie immer lässt sich Christopher ganz spontan auf die Runen ein und lässt es sich nicht nehmen\, von Thema zu Thema zu mäandern\, um in Worte zu fassen\, was gerade in der Luft liegt. \n *** (B) Tagesgeheimnis mit Astrologie – Was die Sterne verraten (Kirsten)\nhttps://www.youtube.com/@Geheimnisakademie-Astrologie\nGleich im Anschluss übernimmt Kirsten das Steuer und führt dich auf unserem Astro-Kanal sachkundig durch die Konstellationen des Tages. Mit einem besonderen Blick auf die Mondphasen und durch die Analyse wichtiger Tagesaspekte bekommst du einen Einblick\, worauf du laut den Planeten an diesem Tag besonders achten solltest. Zum Abschluss des astrologischen Segments erhältst du ein Symbol-Orakel aus der Grad-Astrologie\, das dir als tägliches Mantra dienen kann. \n *** (C) Tagesgeheimnis mit Tarot – Was die Karten empfehlen (Kirsten)\nhttps://www.youtube.com/@GeheimnisakademieTarot\nDein magischer Morgen wird durch einen Impuls aus der Welt des Karten abgerundet. Kirsten berechnet auf unserem Orakelkanal den „Spirit Guide“ und bietet dir zusätzliche Denkanstöße für deinen Tag. Jeden Morgen lässt sie sich aufs Neue von ihrem umfangreichen Arsenal an Tarotdecks inspirieren und präsentiert immer wieder faszinierende neue Bilder. Zudem führt Kirsten gelegentlich ein Tagesorakel durch.So wird dein Tag magisch! \nHerzlichst\, Kirsten & Christopher \nGeheimnisakademie
URL:https://www.geheimnisakademie.de/veranstaltung/dein-mantischer-morgen-9/
CATEGORIES:Live Online-Event
END:VEVENT
BEGIN:VEVENT
DTSTART;TZID=Europe/Berlin:20240804T063000
DTEND;TZID=Europe/Berlin:20240804T065500
DTSTAMP:20260421T182602
CREATED:20240725T062632Z
LAST-MODIFIED:20240725T062632Z
UID:10001341-1722753000-1722754500@www.geheimnisakademie.de
SUMMARY:DEIN MANTISCHER MORGEN
DESCRIPTION:DEIN MANTISCHER MORGEN *** \nJeden Morgen beginnst du deinen Tag zauberhaft!\n *** (A) Tagesgeheimnis mit Runen – was die Runen raunen (Christopher) \nhttps://www.youtube.com/@Geheimnisakademie\nUm 6:30 Uhr lässt Christopher wie gewohnt die Runen raunen. Die Tagesrune aus der Runenwoche wird besprochen und ihre Facetten vertieft. Sie zeigt die Grundenergie des Tages aus Sicht der Runen des Älteren Futhark\, spannt den energetischen Rahmen. Die drei zusätzlich gezogenen Runen mögen dich inspirieren\, das Beste aus dem Tag zu machen und sprechen Empfehlungen aus\, was jetzt gut für dich wäre auf den Ebenen von LIEBE\, ORDNUNG und ERKENNTNIS. Wie immer lässt sich Christopher ganz spontan auf die Runen ein und lässt es sich nicht nehmen\, von Thema zu Thema zu mäandern\, um in Worte zu fassen\, was gerade in der Luft liegt. \n *** (B) Tagesgeheimnis mit Astrologie – Was die Sterne verraten (Kirsten)\nhttps://www.youtube.com/@Geheimnisakademie-Astrologie\nGleich im Anschluss übernimmt Kirsten das Steuer und führt dich auf unserem Astro-Kanal sachkundig durch die Konstellationen des Tages. Mit einem besonderen Blick auf die Mondphasen und durch die Analyse wichtiger Tagesaspekte bekommst du einen Einblick\, worauf du laut den Planeten an diesem Tag besonders achten solltest. Zum Abschluss des astrologischen Segments erhältst du ein Symbol-Orakel aus der Grad-Astrologie\, das dir als tägliches Mantra dienen kann. \n *** (C) Tagesgeheimnis mit Tarot – Was die Karten empfehlen (Kirsten)\nhttps://www.youtube.com/@GeheimnisakademieTarot\nDein magischer Morgen wird durch einen Impuls aus der Welt des Karten abgerundet. Kirsten berechnet auf unserem Orakelkanal den „Spirit Guide“ und bietet dir zusätzliche Denkanstöße für deinen Tag. Jeden Morgen lässt sie sich aufs Neue von ihrem umfangreichen Arsenal an Tarotdecks inspirieren und präsentiert immer wieder faszinierende neue Bilder. Zudem führt Kirsten gelegentlich ein Tagesorakel durch.So wird dein Tag magisch! \nHerzlichst\, Kirsten & Christopher \nGeheimnisakademie
URL:https://www.geheimnisakademie.de/veranstaltung/dein-mantischer-morgen-10/
CATEGORIES:Live Online-Event
END:VEVENT
BEGIN:VEVENT
DTSTART;TZID=Europe/Berlin:20240804T100000
DTEND;TZID=Europe/Berlin:20240804T180000
DTSTAMP:20260421T182602
CREATED:20240706T103600Z
LAST-MODIFIED:20240706T141716Z
UID:10001314-1722765600-1722794400@www.geheimnisakademie.de
SUMMARY:Transpersonale Astrologie (1): Der Mond
DESCRIPTION:Einführung in die Transpersonale Astrologie (TPA) – Teil 1: Der Mond\nDas geniale Deutungssystem des Michael Roscher\, vorgestellt von Christopher Weidner \nMichael Roscher (1960 – 2005) begründete in den 80er Jahren die Schule für Transpersonale Astrologie\, kurz: TPA. Er vereinte in dieser Schule weitreichende Erfahrungen aus seiner unermüdlichen Beratungspraxis mit modernen Vorstellungen über die Wechselwirkung zwischen dem Individuum und der Welt\, ohne dabei die Wurzeln der Astrologie zu vergessen. Ihm war wichtig\, Astrologie vor dem Hintergrund einer Logik zu betreiben\, die es dem Menschen erlaubt\, das Wesentliche im Horoskop zu erkennen. Es entstanden Deutungsweisen\, die einen systematischen Zugang zum Horoskop erlauben und zugleich einer Deutungstiefe erreichen können\, die man in der herkömmlichen Astrologie vergebens sucht. Das Vermächtnis von Michael Roscher besteht in astrologischen Methoden wie dem Kybernetischen Modell und den Kritischen Graden. Auch heute nur noch wenige AstrologInnen konsequent nach der TPA deuten\, gehören viele seiner Bücher zu den Standardwerken der deutschsprachigen Astrologie. \nLange Zeit bin ich Schüler der Transpersonalen Astrologie gewesen und habe dort meine astrologischen Weihen empfangen. Viele Jahre habe ich an der Seite von Michael Roscher und Brigitte Hamann Transpersonale Astrologie unterrichtet. Nun möchte ich meine Wertschätzung für dieses astrologische System an alle Interessierten weitergeben\, die sich einen tieferen Blick in das Horoskop wünschen. In meinen Augen gibt es keine astrologische Methode\, die schlüssiger und zielsicherer die Persönlichkeit eines Menschen beschreiben kann\, als die TPA. Ein Schlüssel ist dabei die Reduktion auf das Wesentliche – der Grund\, warum wir in der TPA bereits unter der Berücksichtigung nur weniger Faktoren im Horoskop zum Wesen eines Menschen vordringen können. \nMit diesem Online-Workshop möchte ich dich in die Praxis der Transpersonalen Astrologie einführen. Du lernst: \n\nDie Anwendung des Kybernetischen Modells auf das Horoskop: Wie du die Trinität aus Mond\, Merkur und Sonne nutzen kannst\, um den Wesenskern eines Menschen zu beschreiben und die grundlegenden Dynamiken der Persönlichkeit zu begreifen.\nDie besondere Bedeutung des Mondes in der TPA: Warum wir mit dem Mond beginnen\, wenn wir ein Horoskop deuten und welche philosophischen\, spirituellen und astrologischen Hintergründe dabei die tragende Rolle spielen.\nDie Wichtigkeit und der Vorrang des Häusersystems vor den Tierkreiszeichen bei der Bestimmung der Bedeutung von Planeten im Horoskop.\nDas System der Häuserherrscher: Warum die so genannten Häuserherrscher unübertroffen sind\, um interne Verknüpfungen in der Persönlichkeit eines Menschen darzustellen.\n\n  \nDieser Workshop ist auch eine Einladung zur aktiven Teilnahme. Du wirst an deinem eigenen Horoskop arbeiten können. Du kannst auch dein Horoskop zur Verfügung stellen\, damit wir gemeinsam daran üben können. Bitte gib dann deine Geburtsdaten bei der Anmeldung mit an! \nTheorie und Praxis der Transpersonalen Astrologie (TPA) nach Michael Roscher\nDieser Workshop ist Teil einer fünfteiligen Serie\, in der ich in die Praxis der Horoskopdeutung nach Michael Roscher einführe. Du lernst mit Hilfe des sogenannten Kybernetischen Modells den Wesenskern einer Persönlichkeit aus dem Horoskop zu lesen. Zugleich bilden diese Workshops das Fundament für weitere spannende Workshops\, ion den du noch tiefer in die besonderen Techniken und Methoden der Transpersonalen Astrologie (TPA) eingeführt wirst (ab 2025). \n			\n                                    04.\n                                    August\n                                    2024\n                                    \nTranspersonale Astrologie (1): Der Mond\n90.00€Mehr Informationen und Buchung\n                                    01.\n                                    September\n                                    2024\n                                    \nTranspersonale Astrologie (2): Merkur und Sonne\n90.00€Mehr Informationen und Buchung\n                                    06.\n                                    Oktober\n                                    2024\n                                    \nTranspersonale Astrologie (3): Das Kybernetische Modell\n90.00€Mehr Informationen und Buchung\n                                    03.\n                                    November\n                                    2024\n                                    \nTranspersonale Astrologie (4): Praxis A\n90.00€Mehr Informationen und Buchung\n                                    01.\n                                    Dezember\n                                    2024\n                                    \nTranspersonale Astrologie (5): Praxis B\n90.00€Mehr Informationen und Buchung		 \nDie Ideen der TPA\nHier kannst du dich auf dem Astrokanal der Geheimnisakademie über die Grundlagen und das Astrologieverständnis der TPA informieren. Bitte sieh dir diese Videos an\, damit du eine Vorstellung vom Selbstverständnis der Transpersonalen Astrologie bekommst. \nPlaylist\n															3 Videos\n																									 \n\n											Transpersonale Astrologie: Eine Einführung (Teil 1)\n										\n																					1:39:46\n																									 \n\n											Transpersonale Astrologie: Eine Einführung (Teil 2)\n										\n																					1:22:18\n																									 \n\n											Transpersonale Astrologie: Eine Einführung (Teil 3)\n										\n																					1:30:53
URL:https://www.geheimnisakademie.de/veranstaltung/transpersonale-astrologie-1-der-mond-040824/
CATEGORIES:Online-Workshop
ATTACH;FMTTYPE=image/jpeg:https://www.geheimnisakademie.de/wp-content/uploads/2024/07/ga_workshop_tpa_1_mond.jpg
LOCATION:https://www.geheimnisakademie.de/veranstaltung/transpersonale-astrologie-1-der-mond-040824/
END:VEVENT
BEGIN:VEVENT
DTSTART;TZID=Europe/Berlin:20240804T130000
DTEND;TZID=Europe/Berlin:20240804T134000
DTSTAMP:20260421T182602
CREATED:20240725T062633Z
LAST-MODIFIED:20240725T062633Z
UID:10001342-1722776400-1722778800@www.geheimnisakademie.de
SUMMARY:Neumond in Löwe: Ein kosmischer Neustart voller Herausforderungen – Entdecke\, wa...
DESCRIPTION:Eine feurige Neumondphase im Löwen steht an. Wenn sich Sonne und Neumond am 4. August 2024 um 13:13 Uh im Löwen treffen sind wir live dabei und überlegen\, was es mit dieser Begegnung wohl auf sich hat. Dieser Neumond verspricht nicht nur einen Neubeginn\, sondern auch eine Zeit voller Energie und Dramatik\, die typisch für das Löwe-Zeichen ist.\nWas zu erwarten ist beim Neumond in Löwe:\nDer Neumond in Löwe bringt eine kraftvolle Energie für Selbstausdruck und Kreativität. Dies ist eine ideale Zeit\, um Projekte zu starten\, die Leidenschaft und persönliche Brillanz erfordern. Der Löwe fordert uns auf\, mutig und selbstbewusst zu sein\, während wir unsere wahren Herzenswünsche verfolgen.\nIn der Geheimnisakademie werden zu diesem Neumond außerdem die Rune Dagaz und die Tarotkarte 5 der Schwerter aktiv. Hier kannst du dir anschauen\, was wir in den Rauhnächten dazu besprochen haben: htt…
URL:https://www.geheimnisakademie.de/veranstaltung/neumond-in-loewe-ein-kosmischer-neustart-voller-herausforderungen-entdecke-wa/
CATEGORIES:Live Online-Event
END:VEVENT
BEGIN:VEVENT
DTSTART;TZID=Europe/Berlin:20240804T213000
DTEND;TZID=Europe/Berlin:20240804T222000
DTSTAMP:20260421T182603
CREATED:20240725T062633Z
LAST-MODIFIED:20240725T062633Z
UID:10001343-1722807000-1722810000@www.geheimnisakademie.de
SUMMARY:🌟 August 2024 Astro-Update: Explosive Sternenkonstellationen – Bist du berei...
DESCRIPTION:🌠 Deine Sterne im August 2024 🌠\nBegleite Kirsten und Christopher auf einer Reise durch die bedeutenden Himmelsereignisse des Augusts und entdecke\, wie die Sterne dein Leben beeinflussen. Lasse dich von den dynamischen Energien des Spätsommers inspirieren und lerne\, die kosmischen Kräfte zu deinem Vorteil zu nutzen.\n🔮 Astrologische Monatsvorschau: Deine Sterne im August 2024 🔮\nErkunde mit Kirsten und Christopher\, deine astrologischen Wegweiser\, die spannenden Konstellationen der Sterne. Erfahre\, wie du die kosmischen Einflüsse nutzen kannst\, um den August mit Zuversicht und Erneuerung zu erleben.\nWichtige astrologische Ereignisse im August:\n04.08. Neumond in Löwe: Ein kraftvoller Start in den Monat\, perfekt für kreative Projekte und Selbstausdruck.\n05.08. Merkur rückläufig in Jungfrau & Venus Eintritt in Jungfrau: Ein Tag der sorgfältigen Pla…
URL:https://www.geheimnisakademie.de/veranstaltung/%f0%9f%8c%9f-august-2024-astro-update-explosive-sternenkonstellationen-bist-du-berei/
CATEGORIES:Live Online-Event
END:VEVENT
BEGIN:VEVENT
DTSTART;TZID=Europe/Berlin:20240806T193000
DTEND;TZID=Europe/Berlin:20240806T220000
DTSTAMP:20260421T182603
CREATED:20240702T202905Z
LAST-MODIFIED:20241228T104235Z
UID:10001312-1722972600-1722981600@www.geheimnisakademie.de
SUMMARY:Offener Tarot-Übungsabend
DESCRIPTION:Erwecke deine innere Hohepriesterin\nSicher Tarot deuten mit der offenen Tarot-Legepraxis für alle Lernstufen\n\nHerzlich willkommen zu unserer offenen Tarot-Legepraxis\, in der du die Geheimnisse des Tarots entdecken und deine innere Hohepriesterin erwecken kannst. Gemeinsam gehen wir auf eine faszinierende Reise in die mystische Welt der Karten.\nIn unseren offenen Treffen üben wir gemeinsam das Interpretieren der Karten anhand verschiedener Legesysteme. Wir tauchen tief in die Symbolik ein und entdecken die verborgene Weisheit\, die das Tarot zu bieten hat. Die Kunst der richtigen Fragestellung und das Kartenlegen stehen dabei im Mittelpunkt. Fühl dich frei\, Legungen mitzubringen\, bei denen du bisher unsicher bist – gemeinsam finden wir Antworten.\nEgal\, ob du bereits Erfahrung mit dem Tarot hast oder gerade erst anfängst\, die Gruppendynamik ermöglicht uns ein wertvolles Feedback und bietet uns eine Supervisionsmöglichkeit\, um uns in unserem Können zu stärken.\nTauche ein in die Atmosphäre der Magie und Intuition und lass deine innere Hohepriesterin erwachen. Die Tarot-Legepraxis öffnet Türen zu tiefer Selbsterkenntnis und verbindet uns mit der unendlichen Weisheit des Universums.\nDie Praxis findet statt\, sobald sich mindestens vier Teilnehmende verbindlich für den jeweiligen Termin anmelden.
URL:https://www.geheimnisakademie.de/veranstaltung/offener-tarot-uebungsabend/
LOCATION:Zoom
CATEGORIES:Übungsabend
ATTACH;FMTTYPE=image/jpeg:https://www.geheimnisakademie.de/wp-content/uploads/2024/07/ga_tarot_uebungsabend_2025.jpg
END:VEVENT
END:VCALENDAR