BEGIN:VCALENDAR
VERSION:2.0
PRODID:-//Geheimnisakademie - ECPv6.15.13.1//NONSGML v1.0//EN
CALSCALE:GREGORIAN
METHOD:PUBLISH
X-ORIGINAL-URL:https://www.geheimnisakademie.de
X-WR-CALDESC:Veranstaltungen für Geheimnisakademie
REFRESH-INTERVAL;VALUE=DURATION:PT1H
X-Robots-Tag:noindex
X-PUBLISHED-TTL:PT1H
BEGIN:VTIMEZONE
TZID:Europe/Berlin
BEGIN:DAYLIGHT
TZOFFSETFROM:+0100
TZOFFSETTO:+0200
TZNAME:CEST
DTSTART:20240331T010000
END:DAYLIGHT
BEGIN:STANDARD
TZOFFSETFROM:+0200
TZOFFSETTO:+0100
TZNAME:CET
DTSTART:20241027T010000
END:STANDARD
BEGIN:DAYLIGHT
TZOFFSETFROM:+0100
TZOFFSETTO:+0200
TZNAME:CEST
DTSTART:20250330T010000
END:DAYLIGHT
BEGIN:STANDARD
TZOFFSETFROM:+0200
TZOFFSETTO:+0100
TZNAME:CET
DTSTART:20251026T010000
END:STANDARD
BEGIN:DAYLIGHT
TZOFFSETFROM:+0100
TZOFFSETTO:+0200
TZNAME:CEST
DTSTART:20260329T010000
END:DAYLIGHT
BEGIN:STANDARD
TZOFFSETFROM:+0200
TZOFFSETTO:+0100
TZNAME:CET
DTSTART:20261025T010000
END:STANDARD
END:VTIMEZONE
BEGIN:VEVENT
DTSTART;TZID=Europe/Berlin:20250413T110000
DTEND;TZID=Europe/Berlin:20250413T180000
DTSTAMP:20260422T142243
CREATED:20250222T123354Z
LAST-MODIFIED:20250222T123354Z
UID:10001374-1744542000-1744567200@www.geheimnisakademie.de
SUMMARY:Vertiefe dein Tarotwissen: Tarot & I Ching
DESCRIPTION:Das westliche Tarot trifft auf das östliche Orakelbuch\nDas I Ching ist eines der ältesten Weisheits- und Orakelsysteme der Welt. Schon Aleister Crowley und viele andere haben erkannt\, dass sich Tarot und I Ching auf faszinierende Weise ergänzen.\nIn diesem Workshop erforschst du:\n🔹 Wie sich die Struktur des Yijing mit der Symbolik des Tarots verbindet\n🔹 Welche Parallelen es zwischen den Trigrammen und den großen Arkana gibt\n🔹 Wie du beide Systeme kombinierst\, um tiefere Einsichten in deine Deutungen zu gewinnen\n💰 Kosten: 90 €\n🕚 Zeit: 11:00 – 18:00 Uhr (inkl. Pausen)\n📍 Ort: Online via Zoom\n📖 Extras: Handout\, Diskussionen & Skool-Community \n 
URL:https://www.geheimnisakademie.de/veranstaltung/vertiefe-dein-tarotwissen-tarot-i-ching/
LOCATION:Zoom
CATEGORIES:Online-Workshop
ATTACH;FMTTYPE=image/jpeg:https://www.geheimnisakademie.de/wp-content/uploads/2025/02/ga_online-workshop_i-ching.jpg
END:VEVENT
END:VCALENDAR