BEGIN:VCALENDAR
VERSION:2.0
PRODID:-//Geheimnisakademie - ECPv6.15.13.1//NONSGML v1.0//EN
CALSCALE:GREGORIAN
METHOD:PUBLISH
X-WR-CALNAME:Geheimnisakademie
X-ORIGINAL-URL:https://www.geheimnisakademie.de
X-WR-CALDESC:Veranstaltungen für Geheimnisakademie
REFRESH-INTERVAL;VALUE=DURATION:PT1H
X-Robots-Tag:noindex
X-PUBLISHED-TTL:PT1H
BEGIN:VTIMEZONE
TZID:Europe/Berlin
BEGIN:DAYLIGHT
TZOFFSETFROM:+0100
TZOFFSETTO:+0200
TZNAME:CEST
DTSTART:20240331T010000
END:DAYLIGHT
BEGIN:STANDARD
TZOFFSETFROM:+0200
TZOFFSETTO:+0100
TZNAME:CET
DTSTART:20241027T010000
END:STANDARD
BEGIN:DAYLIGHT
TZOFFSETFROM:+0100
TZOFFSETTO:+0200
TZNAME:CEST
DTSTART:20250330T010000
END:DAYLIGHT
BEGIN:STANDARD
TZOFFSETFROM:+0200
TZOFFSETTO:+0100
TZNAME:CET
DTSTART:20251026T010000
END:STANDARD
BEGIN:DAYLIGHT
TZOFFSETFROM:+0100
TZOFFSETTO:+0200
TZNAME:CEST
DTSTART:20260329T010000
END:DAYLIGHT
BEGIN:STANDARD
TZOFFSETFROM:+0200
TZOFFSETTO:+0100
TZNAME:CET
DTSTART:20261025T010000
END:STANDARD
END:VTIMEZONE
BEGIN:VEVENT
DTSTART;TZID=Europe/Berlin:20250909T193000
DTEND;TZID=Europe/Berlin:20250909T210000
DTSTAMP:20260421T144336
CREATED:20250902T092130Z
LAST-MODIFIED:20250902T092341Z
UID:10001391-1757446200-1757451600@www.geheimnisakademie.de
SUMMARY:Infoabend: Transpersonale Astrologie lernen - mit Christopher
DESCRIPTION:Liebe Freundinnen und Freunde der Astrologie! \nDie Lernreise in Transpersonaler Astrologie nach Michael Roscher startet – und der erste Schritt ist unser kostenloser Infoabend am 9. September 2025 um 19:30 Uhr. \nHier kannst du dich registrieren: \n👉 Anmeldung zum kostenlosen Infoabend \nAn diesem Abend erfährst du: \n\nwie der Lernpfad aufgebaut ist und welche Module dich erwarten\,\nwelche Teilnahmeformen es gibt und welche Investition du einplanen solltest\,\nwelche Vorkenntnisse hilfreich sind – und welche Türen dir danach offenstehen.\n\nDie Transpersonale Astrologie ist mehr als eine Methode: Sie ist ein klar strukturiertes System\, das dich befähigt\, Horoskope präzise\, lösungsorientiert und auf den Punkt zu deuten. Damit gewinnst du ein Werkzeug\, das dich selbst und andere in ihrer Entwicklung entscheidend weiterbringen kann.\nWenn du schon astrologisch arbeitest\, wirst du Techniken kennenlernen\, die deine Deutungen deutlich schärfen. \nWenn du gerade erst anfängst\, findest du in der TPA eine klare Landkarte\, die dir zeigt\, worauf es im Horoskop wirklich ankommt – und wie du das Wesentliche vom Nebensächlichen trennst. \nDieser besondere astrologische Weg bietet nicht nur Wissen – er ist eine Lernreise in die Tiefe der Astrologie\, die dich persönlich und fachlich wachsen lässt. \nIch freue mich\, dir dieses Konzept vorstellen zu können – und vielleicht schon bald gemeinsam mit dir diesen besonderen Weg zu gehen. \nHerzliche Grüße\nChristopher Weidner\ngeprüfter Astrologe TPA
URL:https://www.geheimnisakademie.de/veranstaltung/infoabend-transpersonale-astrologie-lernen-mit-christopher/
CATEGORIES:Webinarreihe
ATTACH;FMTTYPE=image/jpeg:https://www.geheimnisakademie.de/wp-content/uploads/2025/09/ga_astro_tpa-titelbild.jpg
END:VEVENT
END:VCALENDAR