BEGIN:VCALENDAR
VERSION:2.0
PRODID:-//Geheimnisakademie - ECPv6.15.13.1//NONSGML v1.0//EN
CALSCALE:GREGORIAN
METHOD:PUBLISH
X-ORIGINAL-URL:https://www.geheimnisakademie.de
X-WR-CALDESC:Veranstaltungen für Geheimnisakademie
REFRESH-INTERVAL;VALUE=DURATION:PT1H
X-Robots-Tag:noindex
X-PUBLISHED-TTL:PT1H
BEGIN:VTIMEZONE
TZID:Europe/Berlin
BEGIN:DAYLIGHT
TZOFFSETFROM:+0100
TZOFFSETTO:+0200
TZNAME:CEST
DTSTART:20250330T010000
END:DAYLIGHT
BEGIN:STANDARD
TZOFFSETFROM:+0200
TZOFFSETTO:+0100
TZNAME:CET
DTSTART:20251026T010000
END:STANDARD
BEGIN:DAYLIGHT
TZOFFSETFROM:+0100
TZOFFSETTO:+0200
TZNAME:CEST
DTSTART:20260329T010000
END:DAYLIGHT
BEGIN:STANDARD
TZOFFSETFROM:+0200
TZOFFSETTO:+0100
TZNAME:CET
DTSTART:20261025T010000
END:STANDARD
BEGIN:DAYLIGHT
TZOFFSETFROM:+0100
TZOFFSETTO:+0200
TZNAME:CEST
DTSTART:20270328T010000
END:DAYLIGHT
BEGIN:STANDARD
TZOFFSETFROM:+0200
TZOFFSETTO:+0100
TZNAME:CET
DTSTART:20271031T010000
END:STANDARD
END:VTIMEZONE
BEGIN:VEVENT
DTSTART;TZID=Europe/Berlin:20260201T110000
DTEND;TZID=Europe/Berlin:20260201T180000
DTSTAMP:20260420T143058
CREATED:20260109T081117Z
LAST-MODIFIED:20260131T080840Z
UID:10001396-1769943600-1769968800@www.geheimnisakademie.de
SUMMARY:Dein Jahr des Feuerpferds – Dynamik\, Mut und Richtungswechsel
DESCRIPTION:Tages-Workshop mit Kirsten Buchholzer & Christopher Weidner \n🗓️ So. 1. Februar 2026 ⏰ 11:00 – 18:00 Uhr 💰 Kosten: 120 EUR 👥 Reiseleitung: Kirsten Buchholzer & Christopher Weidner \nDas Jahr des Feuerpferds markiert einen kraftvollen Wendepunkt. Feuer bringt Leidenschaft\, Sichtbarkeit und Entschlossenheit\, das Pferd steht für Freiheit\, Tempo und eigenständige Entscheidungen. In dieser Kombination entsteht eine Zeitqualität\, die nach Klarheit\, Mut und bewusster Ausrichtung verlangt – persönlich wie kollektiv. \nBegleitet wirst du an diesem Tag von zwei Reiseleitern\, die selbst eng mit der Feuer-Energie verbunden sind: Kirsten Buchholzer ist eine Feuer-Ziege\, Christopher Weidner ein Feuer-Pferd. Ihre unterschiedlichen\, aber verwandten Perspektiven machen die Dynamik dieses Jahres besonders anschaulich und praxisnah. \nIn diesem Tages-Workshop widmen wir uns intensiv der chinesischen Astrologie und der besonderen Qualität des Feuerpferd-Jahres. Du lernst\, wie sich diese Energie auf Lebenswege\, Entscheidungen\, Beziehungen und berufliche Entwicklungen auswirkt – und wie du sie bewusst nutzen kannst\, statt von ihr getrieben zu werden. \n☯️ Inhalte des Workshops: \n\nDas Feuerpferd im chinesischen Tierkreis: Bedeutung\, Chancen und Herausforderungen\nDie fünf Wandlungsphasen und ihre Rolle im Jahresverlauf 2026\nZeitqualität des Jahres: Tempo\, Konfliktpotenzial\, Durchbruchskraft\nPersönliche Bezüge: Wie wirkt das Feuerpferd auf unterschiedliche Tierzeichen?\nPraktische Impulse für Planung\, Ausrichtung und klare Entscheidungen im Jahreslauf\n\nDer Workshop bietet Raum für Austausch\, Fragen und konkrete Beispiele und verbindet fundiertes Wissen mit erfahrungsnaher Vermittlung. \n📖 Inklusive: Handout und begleitende Impulse zur Vertiefung. \nEin intensiver Tag für alle\, die das Jahr des Feuerpferds bewusst verstehen und aktiv gestalten möchten.
URL:https://www.geheimnisakademie.de/veranstaltung/dein-jahr-des-feuerpferds-dynamik-mut-und-richtungswechsel/
CATEGORIES:Online-Workshop
ATTACH;FMTTYPE=image/jpeg:https://www.geheimnisakademie.de/wp-content/uploads/2026/01/ga_ws_feuerpferd-2026.jpeg
LOCATION:https://us02web.zoom.us/j/84615566832
END:VEVENT
END:VCALENDAR