BEGIN:VCALENDAR
VERSION:2.0
PRODID:-//Geheimnisakademie - ECPv6.15.13.1//NONSGML v1.0//EN
CALSCALE:GREGORIAN
METHOD:PUBLISH
X-ORIGINAL-URL:https://www.geheimnisakademie.de
X-WR-CALDESC:Veranstaltungen für Geheimnisakademie
REFRESH-INTERVAL;VALUE=DURATION:PT1H
X-Robots-Tag:noindex
X-PUBLISHED-TTL:PT1H
BEGIN:VTIMEZONE
TZID:Europe/Berlin
BEGIN:DAYLIGHT
TZOFFSETFROM:+0100
TZOFFSETTO:+0200
TZNAME:CEST
DTSTART:20250330T010000
END:DAYLIGHT
BEGIN:STANDARD
TZOFFSETFROM:+0200
TZOFFSETTO:+0100
TZNAME:CET
DTSTART:20251026T010000
END:STANDARD
BEGIN:DAYLIGHT
TZOFFSETFROM:+0100
TZOFFSETTO:+0200
TZNAME:CEST
DTSTART:20260329T010000
END:DAYLIGHT
BEGIN:STANDARD
TZOFFSETFROM:+0200
TZOFFSETTO:+0100
TZNAME:CET
DTSTART:20261025T010000
END:STANDARD
BEGIN:DAYLIGHT
TZOFFSETFROM:+0100
TZOFFSETTO:+0200
TZNAME:CEST
DTSTART:20270328T010000
END:DAYLIGHT
BEGIN:STANDARD
TZOFFSETFROM:+0200
TZOFFSETTO:+0100
TZNAME:CET
DTSTART:20271031T010000
END:STANDARD
END:VTIMEZONE
BEGIN:VEVENT
DTSTART;TZID=Europe/Berlin:20260509T190000
DTEND;TZID=Europe/Berlin:20260509T220000
DTSTAMP:20260420T205753
CREATED:20260405T083445Z
LAST-MODIFIED:20260405T085500Z
UID:10001409-1778353200-1778364000@www.geheimnisakademie.de
SUMMARY:Die verborgene Ordnung
DESCRIPTION:Die verborgene Ordnung\nHermetisches Denken erleben\nmit Christopher A. Weidner \nIch kenne Phasen\, in denen die eigene Orientierung verloren geht — in denen die Fragen lauter werden als die Antworten und die Ordnung\, auf die ich mich verlassen konnte\, nicht mehr selbstverständlich trägt. Vielleicht kennst du das auch. \nMeinem Erleben nach ist genau diese Unsicherheit kein Hindernis\, sondern ein Ausgangspunkt. In der hermetischen Philosophie hat der Mensch keinen festen Platz in der Schöpfungsordnung — er verortet sich durch sein eigenes Tun\, wird zum Schöpfer seiner Wirklichkeit. Wer mit Tarot\, Astrologie oder Runen arbeitet\, vollzieht diese Denkform bereits\, meistens ohne das Fundament zu kennen\, auf dem sie ruht. \nIn fünf Abenden legen wir dieses Fundament frei. Im Zentrum steht der Asclepius — der älteste hermetische Text des lateinischen Westens\, in meiner eigenen Übersetzung aus dem Lateinischen. Wir lesen ihn gemeinsam\, langsam\, und lassen uns von einem Text verändern\, der fast zweitausend Jahre alt ist und nichts von seiner Kraft verloren hat. \nTermine\nFünf Samstagabende\, 19:00–22:00 Uhr \n9. Mai — 16. Mai — 30. Mai — 13. Juni — 27. Juni 2026 \nDeine Investition\n129 Euro bei Buchung bis zum 1. Mai 2026\,\ndann 149 Euro für alle fünf Abende \nInklusive eigener Asclepius-Übersetzung und Workbook sowie eigenem Diskussionskreis.
URL:https://www.geheimnisakademie.de/veranstaltung/die-verborgene-ordnung/
CATEGORIES:Webinarreihe
ATTACH;FMTTYPE=image/jpeg:https://www.geheimnisakademie.de/wp-content/uploads/2026/04/ga_gdo_asclepius.jpg
LOCATION:https://www.geheimnisakademie.de/veranstaltung/die-verborgene-ordnung/
END:VEVENT
END:VCALENDAR