BEGIN:VCALENDAR
VERSION:2.0
PRODID:-//Geheimnisakademie - ECPv6.15.13.1//NONSGML v1.0//EN
CALSCALE:GREGORIAN
METHOD:PUBLISH
X-ORIGINAL-URL:https://www.geheimnisakademie.de
X-WR-CALDESC:Veranstaltungen für Geheimnisakademie
REFRESH-INTERVAL;VALUE=DURATION:PT1H
X-Robots-Tag:noindex
X-PUBLISHED-TTL:PT1H
BEGIN:VTIMEZONE
TZID:Europe/Berlin
BEGIN:DAYLIGHT
TZOFFSETFROM:+0100
TZOFFSETTO:+0200
TZNAME:CEST
DTSTART:20250330T010000
END:DAYLIGHT
BEGIN:STANDARD
TZOFFSETFROM:+0200
TZOFFSETTO:+0100
TZNAME:CET
DTSTART:20251026T010000
END:STANDARD
BEGIN:DAYLIGHT
TZOFFSETFROM:+0100
TZOFFSETTO:+0200
TZNAME:CEST
DTSTART:20260329T010000
END:DAYLIGHT
BEGIN:STANDARD
TZOFFSETFROM:+0200
TZOFFSETTO:+0100
TZNAME:CET
DTSTART:20261025T010000
END:STANDARD
BEGIN:DAYLIGHT
TZOFFSETFROM:+0100
TZOFFSETTO:+0200
TZNAME:CEST
DTSTART:20270328T010000
END:DAYLIGHT
BEGIN:STANDARD
TZOFFSETFROM:+0200
TZOFFSETTO:+0100
TZNAME:CET
DTSTART:20271031T010000
END:STANDARD
END:VTIMEZONE
BEGIN:VEVENT
DTSTART;TZID=Europe/Berlin:20260602T190000
DTEND;TZID=Europe/Berlin:20260602T213000
DTSTAMP:20260420T121838
CREATED:20260303T120039Z
LAST-MODIFIED:20260325T073835Z
UID:10001408-1780426800-1780435800@www.geheimnisakademie.de
SUMMARY:Kabbala – Die verborgene Struktur des Tarot
DESCRIPTION:Die 78 Karten im Spiegel des Lebensbaums\nMit Kirsten Buchholzer\nStart am Dienstag\, 2. Juni 6 Abende | jeweils 19:00–21:30 Uhr\nInvestition: 330 EUR\nTarot und Kabbala sind keine zufällige Verbindung. Beide Systeme arbeiten mit Struktur\, Entwicklung und Bewusstseinsstufen.\nDiese sechsteilige Online-Reihe führt dich Schritt für Schritt durch die symbolische Architektur hinter den 78 Karten – jenseits von Schlagworten und Schnellzuordnungen.\nWir arbeiten nicht dogmatisch. Wir arbeiten strukturell.\nAbend 1\nEinführung: Was verbindet Tarot und Kabbala?\n\n\nGrundstruktur des Lebensbaums\n\n\nDie zehn Sefirot als Bewusstseinsstufen\n\n\nDie 22 Pfade als Entwicklungsbewegung\n\n\nHistorische Einordnung der Tarot-Kabbala-Verbindung\n\n\nDu verstehst\, warum diese Systeme miteinander gedacht wurden – und wo Vorsicht angebracht ist.\nAbend 2\nDie Kleinen Arkana & die Kabbala\nNumerologie als Strukturprinzip\n\n\nDie Zahlen 1–10 im kabbalistischen Kontext\n\n\nDie vier Welten und die vier Elemente\n\n\nWie sich Zahl + Element in den 40 Karten entfalten\n\n\nPraktische Deutungsarbeit\n\n\nNach diesem Abend liest du die Zahlen nicht mehr isoliert – sondern als Teil eines Systems.\nAbend 3\nDie Großen Arkana & die hebräischen Buchstaben\nDer eigene Name als Resonanzraum\n\n\nDie 22 Pfade des Lebensbaums\n\n\nZuordnung der Großen Arkana\n\n\nDie Symbolik der hebräischen Buchstaben\n\n\nDer eigene Name im Spiegel der Buchstabenkräfte\n\n\nHier wird Tarot persönlich – ohne beliebig zu werden.\nAbend 4\nDie Hofkarten & das Göttliche im Menschen\n\n\nDie vier kabbalistischen Welten\n\n\nArchetypen von Entwicklung und Reife\n\n\nHofkarten als Bewusstseinsqualitäten\n\n\nDas Prinzip von Potenzial und Verkörperung\n\n\nDie Hofkarten verlieren ihre Unschärfe – und gewinnen Tiefe.\nAbend 5\nDaath – Das verborgene Wissen\n\n\nWas ist Daath wirklich?\n\n\nSchwelle\, Abgrund oder Bewusstseinsbruch?\n\n\nTarotkarten an der Grenze des Sagbaren\n\n\nKrisen als Initiationsmomente\n\n\nEin Abend für Fortgeschrittene – strukturell\, nicht spekulativ.\nAbend 6\nEngel und geistige Kräfte im Tarot-Kosmos\n\n\nEngel in der kabbalistischen Tradition\n\n\nSefirot und Engelzuordnungen\n\n\nSpirituelle Hierarchien und ihre symbolische Lesart\n\n\nPraktische Integration in die Tarotarbeit\n\n\nHier schließen sich Theorie und Praxis.\nWarum diese Reise mit Kirsten Buchholzer?\nKirsten arbeitet seit über 30 Jahren mit Tarot und westlicher Mystik. Sie kennt die Begeisterung – und die Fallstricke. Sie erklärt nicht mystifizierend\, sondern nachvollziehbar.\nDiese Reihe ist kein oberflächlicher Überblick. Sie ist eine strukturierte Vertiefung für ernsthafte Tarotpraktizierende.\nTermine\n\n2. Juni 2026\n9. Juni 2026\n23.Juni 2026\n30. Juni 2026\n7. Juli 2026\n21.Juli 2026
URL:https://www.geheimnisakademie.de/veranstaltung/kabbala-die-verborgene-struktur-des-tarot/
LOCATION:Zoom
CATEGORIES:Webinarreihe
ATTACH;FMTTYPE=image/jpeg:https://www.geheimnisakademie.de/wp-content/uploads/2026/03/ga_ws_kabbala.jpg
END:VEVENT
END:VCALENDAR